BEGIN:VCALENDAR
VERSION:2.0
PRODID:-//Sing Australia - ECPv4.9.8//NONSGML v1.0//EN
CALSCALE:GREGORIAN
METHOD:PUBLISH
X-WR-CALNAME:Sing Australia
X-ORIGINAL-URL:https://www.singaustralia.com.au
X-WR-CALDESC:Events for Sing Australia
BEGIN:VTIMEZONE
TZID:Australia/Melbourne
BEGIN:STANDARD
TZOFFSETFROM:+1100
TZOFFSETTO:+1000
TZNAME:AEST
DTSTART:20200404T160000
END:STANDARD
BEGIN:DAYLIGHT
TZOFFSETFROM:+1000
TZOFFSETTO:+1100
TZNAME:AEDT
DTSTART:20201003T160000
END:DAYLIGHT
END:VTIMEZONE
BEGIN:VEVENT
DTSTART;TZID="Australia/Melbourne":20200228T140000
DTEND;TZID="Australia/Melbourne":20200228T144000
DTSTAMP:20200301T161833
CREATED:20200220T234801Z
LAST-MODIFIED:20200221T000120Z
UID:30010-1582898400-1582900800@www.singaustralia.com.au
SUMMARY:Afternoon singing at the Lodge
DESCRIPTION:Meet at 1.45pm at Oaklands Park Lodge Morphett Road Oaklands Park 5046\nSong books required are – SAP 1\, SAP 2\, Songbook 3 & Songbook 4\nSongs singing -G’day\, G’day\, It’s a Grand night for singing\, I’d like to teach the World to sing. Red Rubber Ball\, Some day\, One day\, Top of the World\, Sing. Save the Last dance for me\, Morningtown Ride. Blue Moon\, Shake rattle n Roll\, dancing Queen\, World of our Own\, Sweet Caroline\, I am Australian\, Thank you for the MUsic \n
URL:https://www.singaustralia.com.au/event/afternoon-singing-at-the-lodge/
LOCATION:Oaklands Park Lodge\, 393 Morphett Road\, Oaklands Park\, South Australia\, 5066\, Australia
CATEGORIES:Warradale
ORGANIZER;CN="Rth":MAILTO:ruth,farley@gmail.com.au
GEO:-35.0066167;138.5408495
X-APPLE-STRUCTURED-LOCATION;VALUE=URI;X-ADDRESS=Oaklands Park Lodge 393 Morphett Road Oaklands Park South Australia 5066 Australia;X-APPLE-RADIUS=500;X-TITLE=393 Morphett Road:geo:138.5408495,-35.0066167
END:VEVENT
END:VCALENDAR