BEGIN:VCALENDAR
VERSION:2.0
PRODID:-//Sing Australia - ECPv4.9.8//NONSGML v1.0//EN
CALSCALE:GREGORIAN
METHOD:PUBLISH
X-WR-CALNAME:Sing Australia
X-ORIGINAL-URL:https://www.singaustralia.com.au
X-WR-CALDESC:Events for Sing Australia
BEGIN:VTIMEZONE
TZID:Australia/Melbourne
BEGIN:STANDARD
TZOFFSETFROM:+1100
TZOFFSETTO:+1000
TZNAME:AEST
DTSTART:20200404T160000
END:STANDARD
BEGIN:DAYLIGHT
TZOFFSETFROM:+1000
TZOFFSETTO:+1100
TZNAME:AEDT
DTSTART:20201003T160000
END:DAYLIGHT
END:VTIMEZONE
BEGIN:VEVENT
DTSTART;TZID="Australia/Melbourne":20200228T103000
DTEND;TZID="Australia/Melbourne":20200228T113000
DTSTAMP:20200301T161044
CREATED:20200130T061311Z
LAST-MODIFIED:20200130T061319Z
UID:29609-1582885800-1582889400@www.singaustralia.com.au
SUMMARY:Belmont Friendship Circle
DESCRIPTION:Sing for group \n
URL:https://www.singaustralia.com.au/event/belmont-friendship-circle/
LOCATION:Belmont Baptist  Church\, Maude St\, Belmont\, NSW\, 2280\, Australia
CATEGORIES:Belmont
ORGANIZER;CN="Marilyn%20Foot":MAILTO:marilynfoot@bigpond.com
GEO:-33.0334504;151.6604724
X-APPLE-STRUCTURED-LOCATION;VALUE=URI;X-ADDRESS=Belmont Baptist  Church Maude St Belmont NSW 2280 Australia;X-APPLE-RADIUS=500;X-TITLE=Maude St:geo:151.6604724,-33.0334504
END:VEVENT
END:VCALENDAR