BEGIN:VCALENDAR
VERSION:2.0
PRODID:-//Sing Australia - ECPv4.9.8//NONSGML v1.0//EN
CALSCALE:GREGORIAN
METHOD:PUBLISH
X-WR-CALNAME:Sing Australia
X-ORIGINAL-URL:https://www.singaustralia.com.au
X-WR-CALDESC:Events for Sing Australia
BEGIN:VTIMEZONE
TZID:Australia/Melbourne
BEGIN:STANDARD
TZOFFSETFROM:+1100
TZOFFSETTO:+1000
TZNAME:AEST
DTSTART:20200404T160000
END:STANDARD
BEGIN:DAYLIGHT
TZOFFSETFROM:+1000
TZOFFSETTO:+1100
TZNAME:AEDT
DTSTART:20201003T160000
END:DAYLIGHT
END:VTIMEZONE
BEGIN:VEVENT
DTSTART;TZID="Australia/Melbourne":20200301T093000
DTEND;TZID="Australia/Melbourne":20200301T140000
DTSTAMP:20200301T164851
CREATED:20200114T025315Z
LAST-MODIFIED:20200114T025320Z
UID:29407-1583055000-1583071200@www.singaustralia.com.au
SUMMARY:Dandaloo Church Service
DESCRIPTION:Dandaloo Church Service \n
URL:https://www.singaustralia.com.au/event/dandaloo-church-service/
LOCATION:Dandaloo Trangie Rd\, Trangie Rd\, Trangie\, NSW\, 2823\, Australia
CATEGORIES:Bathurst (NSW),Dubbo,Narromine (NSW),Peak Hill,Trangie (NSW)
GEO:-32.2257433;148.2385222
X-APPLE-STRUCTURED-LOCATION;VALUE=URI;X-ADDRESS=Dandaloo Trangie Rd Trangie Rd Trangie NSW 2823 Australia;X-APPLE-RADIUS=500;X-TITLE=Trangie Rd:geo:148.2385222,-32.2257433
END:VEVENT
END:VCALENDAR