BEGIN:VCALENDAR
VERSION:2.0
PRODID:-//Sing Australia - ECPv4.9.8//NONSGML v1.0//EN
CALSCALE:GREGORIAN
METHOD:PUBLISH
X-WR-CALNAME:Sing Australia
X-ORIGINAL-URL:https://www.singaustralia.com.au
X-WR-CALDESC:Events for Sing Australia
BEGIN:VTIMEZONE
TZID:Australia/Melbourne
BEGIN:STANDARD
TZOFFSETFROM:+1100
TZOFFSETTO:+1000
TZNAME:AEST
DTSTART:20200404T160000
END:STANDARD
BEGIN:DAYLIGHT
TZOFFSETFROM:+1000
TZOFFSETTO:+1100
TZNAME:AEDT
DTSTART:20201003T160000
END:DAYLIGHT
END:VTIMEZONE
BEGIN:VEVENT
DTSTART;TZID="Australia/Melbourne":20200301T090000
DTEND;TZID="Australia/Melbourne":20200301T160000
DTSTAMP:20200301T164651
CREATED:20200217T043617Z
LAST-MODIFIED:20200217T043622Z
UID:29960-1583053200-1583078400@www.singaustralia.com.au
SUMMARY:Dandaloo Church Singalong Trangie Road Dandaloo
DESCRIPTION:Dandaloo Church\nTrangie Road\nDandaloo NSW 2823 \n
URL:https://www.singaustralia.com.au/event/dandaloo-church-singalong-trangie-road-dandaloo/
LOCATION:Dandaloo Trangie Rd\, Trangie Rd\, Trangie\, NSW\, 2823\, Australia
CATEGORIES:Narromine (NSW)
ORGANIZER;CN="Pamela%20Lister":MAILTO:pamelalister@icloud.com
GEO:-32.2257433;148.2385222
X-APPLE-STRUCTURED-LOCATION;VALUE=URI;X-ADDRESS=Dandaloo Trangie Rd Trangie Rd Trangie NSW 2823 Australia;X-APPLE-RADIUS=500;X-TITLE=Trangie Rd:geo:148.2385222,-32.2257433
END:VEVENT
END:VCALENDAR