BEGIN:VCALENDAR
VERSION:2.0
PRODID:-//Sing Australia - ECPv4.9.8//NONSGML v1.0//EN
CALSCALE:GREGORIAN
METHOD:PUBLISH
X-WR-CALNAME:Sing Australia
X-ORIGINAL-URL:https://www.singaustralia.com.au
X-WR-CALDESC:Events for Sing Australia
BEGIN:VTIMEZONE
TZID:Australia/Melbourne
BEGIN:STANDARD
TZOFFSETFROM:+1100
TZOFFSETTO:+1000
TZNAME:AEST
DTSTART:20200404T160000
END:STANDARD
BEGIN:DAYLIGHT
TZOFFSETFROM:+1000
TZOFFSETTO:+1100
TZNAME:AEDT
DTSTART:20201003T160000
END:DAYLIGHT
END:VTIMEZONE
BEGIN:VEVENT
DTSTART;TZID="Australia/Melbourne":20200302T100000
DTEND;TZID="Australia/Melbourne":20200302T113000
DTSTAMP:20200301T165357
CREATED:20170314T011410Z
LAST-MODIFIED:20190517T073553Z
UID:15535-1583143200-1583148600@www.singaustralia.com.au
SUMMARY:Elizabeth Cross Wing\, Walcha Hospital
DESCRIPTION:Singing with Barbara Dunn (Paul Jarman’s Aunt) for the elderly confined to hospital and their visitors. \nMix of songs include – Edelweiss\, Morning Town Ride\, Beer Barrel Polka\, Carnival is Over\, Don’t Fence Me In\, If You Were the Only Girl in the World\, We’ve Done Us Proud\, World of Our Own\, Morning Has Broken \n
URL:https://www.singaustralia.com.au/event/elizabeth-cross-wing-walcha-hospital/2020-03-02/
CATEGORIES:Walcha (NSW)
END:VEVENT
END:VCALENDAR