BEGIN:VCALENDAR
VERSION:2.0
PRODID:-//Sing Australia - ECPv4.9.8//NONSGML v1.0//EN
CALSCALE:GREGORIAN
METHOD:PUBLISH
X-WR-CALNAME:Sing Australia
X-ORIGINAL-URL:https://www.singaustralia.com.au
X-WR-CALDESC:Events for Sing Australia
BEGIN:VTIMEZONE
TZID:Australia/Melbourne
BEGIN:STANDARD
TZOFFSETFROM:+1100
TZOFFSETTO:+1000
TZNAME:AEST
DTSTART:20200404T160000
END:STANDARD
BEGIN:DAYLIGHT
TZOFFSETFROM:+1000
TZOFFSETTO:+1100
TZNAME:AEDT
DTSTART:20201003T160000
END:DAYLIGHT
END:VTIMEZONE
BEGIN:VEVENT
DTSTART;TZID="Australia/Melbourne":20200228T140000
DTEND;TZID="Australia/Melbourne":20200228T150000
DTSTAMP:20200301T161523
CREATED:20200210T063843Z
LAST-MODIFIED:20200210T063850Z
UID:29829-1582898400-1582902000@www.singaustralia.com.au
SUMMARY:Faversham Aged Care
DESCRIPTION:Friday\, 28th February.. Arrive 1.45 for 2pm start.. Faversham House. 27 Shierlaw Ave Canterbury Vic.\nSongbooks: Book 1\, Book 3\, SATP 4.\nMame\,My Love\,Never on a Sunday\,Call the Wind Maria\,Try to Remember\,Gundaga\,Catch a Falling Star\,Return to Sender\,Scotland the Brave\,Irish Lullaby\,\nWhatever Will Be Will Be\,\,Great Day for the Irish\,Road to the Isles\,\, I Dreamed a Dream\, Danny Boy \n
URL:https://www.singaustralia.com.au/event/faversham-aged-care/
LOCATION:Faversham House\, 27 Shierlaw Ave Canterbury Vic 3126\, 27 Shierlaw Ave\, Canterbury\, Vic\, 3126\, Australia
CATEGORIES:Hawthorn
GEO:-37.8233421;145.0852062
X-APPLE-STRUCTURED-LOCATION;VALUE=URI;X-ADDRESS=Faversham House 27 Shierlaw Ave Canterbury Vic 3126 27 Shierlaw Ave Canterbury Vic 3126 Australia;X-APPLE-RADIUS=500;X-TITLE=27 Shierlaw Ave:geo:145.0852062,-37.8233421
END:VEVENT
END:VCALENDAR