BEGIN:VCALENDAR
VERSION:2.0
PRODID:-//Sing Australia - ECPv4.9.8//NONSGML v1.0//EN
CALSCALE:GREGORIAN
METHOD:PUBLISH
X-WR-CALNAME:Sing Australia
X-ORIGINAL-URL:https://www.singaustralia.com.au
X-WR-CALDESC:Events for Sing Australia
BEGIN:VTIMEZONE
TZID:Australia/Melbourne
BEGIN:STANDARD
TZOFFSETFROM:+1100
TZOFFSETTO:+1000
TZNAME:AEST
DTSTART:20200404T160000
END:STANDARD
BEGIN:DAYLIGHT
TZOFFSETFROM:+1000
TZOFFSETTO:+1100
TZNAME:AEDT
DTSTART:20201003T160000
END:DAYLIGHT
END:VTIMEZONE
BEGIN:VEVENT
DTSTART;TZID="Australia/Melbourne":20200301T180000
DTEND;TZID="Australia/Melbourne":20200301T192000
DTSTAMP:20200301T165152
CREATED:20200130T061018Z
LAST-MODIFIED:20200130T061034Z
UID:29596-1583085600-1583090400@www.singaustralia.com.au
SUMMARY:Fringe performance no. 1 at Cleland
DESCRIPTION:Our fabulous accompanist\, Emma Knights\, has assisted us to set up 2 Fringe events at the Cleland Park Wildlife Sanctuary. This is a wonderful location. Singers are limited but family and friends are welcome to come and have a picnic. No BYO Alcohol but there will be a bar onsite. \n
URL:https://www.singaustralia.com.au/event/fringe-performance-no-1-at-cleland/
LOCATION:Cleland Wildlife Park\, 365 Mount Lofty Summit Road\, Mount Lofty\, South Australia\, 5152\, Australia
CATEGORIES:Glenelg
ORGANIZER;CN="Colleen%20Penny":MAILTO:singausglenelg@gmail.com
GEO:-34.9717934;138.7113147
X-APPLE-STRUCTURED-LOCATION;VALUE=URI;X-ADDRESS=Cleland Wildlife Park 365 Mount Lofty Summit Road Mount Lofty South Australia 5152 Australia;X-APPLE-RADIUS=500;X-TITLE=365 Mount Lofty Summit Road:geo:138.7113147,-34.9717934
END:VEVENT
END:VCALENDAR