BEGIN:VCALENDAR
VERSION:2.0
PRODID:-//Sing Australia - ECPv4.9.8//NONSGML v1.0//EN
CALSCALE:GREGORIAN
METHOD:PUBLISH
X-WR-CALNAME:Sing Australia
X-ORIGINAL-URL:https://www.singaustralia.com.au
X-WR-CALDESC:Events for Sing Australia
BEGIN:VTIMEZONE
TZID:Australia/Melbourne
BEGIN:STANDARD
TZOFFSETFROM:+1100
TZOFFSETTO:+1000
TZNAME:AEST
DTSTART:20200404T160000
END:STANDARD
BEGIN:DAYLIGHT
TZOFFSETFROM:+1000
TZOFFSETTO:+1100
TZNAME:AEDT
DTSTART:20201003T160000
END:DAYLIGHT
END:VTIMEZONE
BEGIN:VEVENT
DTSTART;TZID="Australia/Melbourne":20200228T170000
DTEND;TZID="Australia/Melbourne":20200228T200000
DTSTAMP:20200301T164201
CREATED:20200218T020604Z
LAST-MODIFIED:20200218T020616Z
UID:29975-1582909200-1582920000@www.singaustralia.com.au
SUMMARY:Holy Trinity Church Fair entertainment
DESCRIPTION:Holy Trinity Church Fair entertainment \n
URL:https://www.singaustralia.com.au/event/holy-trinity-church-fair-entertainment/
LOCATION:Holy Trinity Church\, Brisbane Street\, Dubbo\, NSW\, 2830\, Australia
CATEGORIES:Bendigo
GEO:-32.2443367;148.6043733
X-APPLE-STRUCTURED-LOCATION;VALUE=URI;X-ADDRESS=Holy Trinity Church Brisbane Street Dubbo NSW 2830 Australia;X-APPLE-RADIUS=500;X-TITLE=Brisbane Street:geo:148.6043733,-32.2443367
END:VEVENT
END:VCALENDAR