BEGIN:VCALENDAR
VERSION:2.0
PRODID:-//Sing Australia - ECPv4.9.8//NONSGML v1.0//EN
CALSCALE:GREGORIAN
METHOD:PUBLISH
X-WR-CALNAME:Sing Australia
X-ORIGINAL-URL:https://www.singaustralia.com.au
X-WR-CALDESC:Events for Sing Australia
BEGIN:VTIMEZONE
TZID:Australia/Melbourne
BEGIN:STANDARD
TZOFFSETFROM:+1100
TZOFFSETTO:+1000
TZNAME:AEST
DTSTART:20200404T160000
END:STANDARD
BEGIN:DAYLIGHT
TZOFFSETFROM:+1000
TZOFFSETTO:+1100
TZNAME:AEDT
DTSTART:20201003T160000
END:DAYLIGHT
END:VTIMEZONE
BEGIN:VEVENT
DTSTART;TZID="Australia/Melbourne":20200229T103000
DTEND;TZID="Australia/Melbourne":20200229T113000
DTSTAMP:20200301T164508
CREATED:20200211T012540Z
LAST-MODIFIED:20200211T012549Z
UID:29897-1582972200-1582975800@www.singaustralia.com.au
SUMMARY:Lavington Square Shopping Centre
DESCRIPTION:To sing songs and entertain the general public shopping at Lavington Square SC. The performance will take place in the foyer area in front of the Best & Less Store. \n
URL:https://www.singaustralia.com.au/event/lavington-square-shopping-centre-4/
LOCATION:Griffith Rd Lavington NSW 2641\, Griffith Rd\, Lavington \, NSW\, 2641\, Australia
CATEGORIES:Albury/Wodonga
ORGANIZER;CN="Pauline%20McLaughlin":MAILTO:singalbwod@gmail.com
GEO:-36.0455811;146.9406878
X-APPLE-STRUCTURED-LOCATION;VALUE=URI;X-ADDRESS=Griffith Rd Lavington NSW 2641 Griffith Rd Lavington  NSW 2641 Australia;X-APPLE-RADIUS=500;X-TITLE=Griffith Rd:geo:146.9406878,-36.0455811
END:VEVENT
END:VCALENDAR