BEGIN:VCALENDAR
VERSION:2.0
PRODID:-//Sing Australia - ECPv6.15.20//NONSGML v1.0//EN
CALSCALE:GREGORIAN
METHOD:PUBLISH
X-WR-CALNAME:Sing Australia
X-ORIGINAL-URL:https://www.singaustralia.com.au
X-WR-CALDESC:Events for Sing Australia
REFRESH-INTERVAL;VALUE=DURATION:PT1H
X-Robots-Tag:noindex
X-PUBLISHED-TTL:PT1H
BEGIN:VTIMEZONE
TZID:Australia/Melbourne
BEGIN:STANDARD
TZOFFSETFROM:+1100
TZOFFSETTO:+1000
TZNAME:AEST
DTSTART:20250405T160000
END:STANDARD
BEGIN:DAYLIGHT
TZOFFSETFROM:+1000
TZOFFSETTO:+1100
TZNAME:AEDT
DTSTART:20251004T160000
END:DAYLIGHT
BEGIN:STANDARD
TZOFFSETFROM:+1100
TZOFFSETTO:+1000
TZNAME:AEST
DTSTART:20260404T160000
END:STANDARD
BEGIN:DAYLIGHT
TZOFFSETFROM:+1000
TZOFFSETTO:+1100
TZNAME:AEDT
DTSTART:20261003T160000
END:DAYLIGHT
BEGIN:STANDARD
TZOFFSETFROM:+1100
TZOFFSETTO:+1000
TZNAME:AEST
DTSTART:20270403T160000
END:STANDARD
BEGIN:DAYLIGHT
TZOFFSETFROM:+1000
TZOFFSETTO:+1100
TZNAME:AEDT
DTSTART:20271002T160000
END:DAYLIGHT
END:VTIMEZONE
BEGIN:VEVENT
DTSTART;TZID=Australia/Melbourne:20260425T070000
DTEND;TZID=Australia/Melbourne:20260425T203000
DTSTAMP:20260424T020546
CREATED:20260421T235208Z
LAST-MODIFIED:20260421T235208Z
UID:47556-1777100400-1777149000@www.singaustralia.com.au
SUMMARY:Anzac Day at the SS&A Anzac Memorial Waterfall
DESCRIPTION:To participate in the Sailors/Soldiers and Airman’s Club public Anzac Service by singing Anzac era songs before\, during and after the service. \nSong Books: \n\nANZAC Book\n\nPerceived Risks: None
URL:https://www.singaustralia.com.au/gig-calendar/anzac-day-at-the-ssa-anzac-memorial-waterfall/
LOCATION:SS&A Club Waterfall\, Wilson St Albury NSW 2640
CATEGORIES:Albury/Wodonga
ORGANIZER;CN="Pauline McLauchlin":MAILTO:mcpaulin@bigpond.com
END:VEVENT
BEGIN:VEVENT
DTSTART;TZID=Australia/Melbourne:20260425T093000
DTEND;TZID=Australia/Melbourne:20260425T110000
DTSTAMP:20260424T020546
CREATED:20260421T235354Z
LAST-MODIFIED:20260421T235354Z
UID:47559-1777109400-1777114800@www.singaustralia.com.au
SUMMARY:Albury RSL Anzac Day Service on Monument Hill
DESCRIPTION:To sing Anzac songs with the Albury City Band as required before\, during and after the service. The service order will be handed out to all members with all the words of all songs printed in the service order. Bus’s will transport members to and from the Monument from Albury CBD. Our Group Leader will advise of the pick up point at a group practice. \n  \nSong Books: \n\nNone\nPerceived Risks: None
URL:https://www.singaustralia.com.au/gig-calendar/albury-rsl-anzac-day-service-on-monument-hill/
LOCATION:Albury RSL Monument\, Monument Hill\, Memorial Drive\, West Albury\, 2640
CATEGORIES:Albury/Wodonga
END:VEVENT
BEGIN:VEVENT
DTSTART;TZID=Australia/Melbourne:20260509T100000
DTEND;TZID=Australia/Melbourne:20260509T110000
DTSTAMP:20260424T020546
CREATED:20260422T002236Z
LAST-MODIFIED:20260422T002236Z
UID:47595-1778320800-1778324400@www.singaustralia.com.au
SUMMARY:Coles Thurgoona
DESCRIPTION:To promote Sing Australia to the general public by performing in the entrance foyer of the new Coles Thurgoona shopping centre. \nSong Books: \n\nTBC\nPerceived Risks: None
URL:https://www.singaustralia.com.au/gig-calendar/coles-thurgoona/
LOCATION:Coles Shopping Centre\, 30 Diamond Drive Thurgoona NSW\, 2641
CATEGORIES:Albury/Wodonga
ORGANIZER;CN="Pauline McLauchlin":MAILTO:mcpaulin@bigpond.com
END:VEVENT
END:VCALENDAR