BEGIN:VCALENDAR
VERSION:2.0
PRODID:-//Sing Australia - ECPv6.15.20//NONSGML v1.0//EN
CALSCALE:GREGORIAN
METHOD:PUBLISH
X-ORIGINAL-URL:https://www.singaustralia.com.au
X-WR-CALDESC:Events for Sing Australia
REFRESH-INTERVAL;VALUE=DURATION:PT1H
X-Robots-Tag:noindex
X-PUBLISHED-TTL:PT1H
BEGIN:VTIMEZONE
TZID:Australia/Melbourne
BEGIN:STANDARD
TZOFFSETFROM:+1100
TZOFFSETTO:+1000
TZNAME:AEST
DTSTART:20250405T160000
END:STANDARD
BEGIN:DAYLIGHT
TZOFFSETFROM:+1000
TZOFFSETTO:+1100
TZNAME:AEDT
DTSTART:20251004T160000
END:DAYLIGHT
BEGIN:STANDARD
TZOFFSETFROM:+1100
TZOFFSETTO:+1000
TZNAME:AEST
DTSTART:20260404T160000
END:STANDARD
BEGIN:DAYLIGHT
TZOFFSETFROM:+1000
TZOFFSETTO:+1100
TZNAME:AEDT
DTSTART:20261003T160000
END:DAYLIGHT
BEGIN:STANDARD
TZOFFSETFROM:+1100
TZOFFSETTO:+1000
TZNAME:AEST
DTSTART:20270403T160000
END:STANDARD
BEGIN:DAYLIGHT
TZOFFSETFROM:+1000
TZOFFSETTO:+1100
TZNAME:AEDT
DTSTART:20271002T160000
END:DAYLIGHT
END:VTIMEZONE
BEGIN:VEVENT
DTSTART;TZID=Australia/Melbourne:20260512T130000
DTEND;TZID=Australia/Melbourne:20260512T140000
DTSTAMP:20260424T082855
CREATED:20260409T011215Z
LAST-MODIFIED:20260409T011215Z
UID:47439-1778590800-1778594400@www.singaustralia.com.au
SUMMARY:Buninyong Senior Citizens
DESCRIPTION:1 hour Concert For Senior Citizens Birthday Celebrations. \nSong Books: \n\nSATP 2\nSong Book 1\nSong Book 3\n\nPerceived Risks: None
URL:https://www.singaustralia.com.au/gig-calendar/buninyong-senior-citizens/
LOCATION:Buninyong Town Hall\, Learmonth Street 309\, Buninyong\, VIC\, 3357\, Australia
CATEGORIES:Ballarat,Ballarat North (Vic)
ORGANIZER;CN="Marilyn Kent":MAILTO:marilynkent1950@gmail.com
END:VEVENT
BEGIN:VEVENT
DTSTART;TZID=Australia/Melbourne:20260515T140000
DTEND;TZID=Australia/Melbourne:20260515T150000
DTSTAMP:20260424T082855
CREATED:20260409T011044Z
LAST-MODIFIED:20260409T011044Z
UID:47436-1778853600-1778857200@www.singaustralia.com.au
SUMMARY:Lucas Retirement Village
DESCRIPTION:1 hour concert for residents of Retirement Village \nSong Books: \n\nSATP 2\nSong Book 1\nSong Book 3\nPerceived Risks: None
URL:https://www.singaustralia.com.au/gig-calendar/lucas-retirement-village/
LOCATION:Lucas Retirement Village\, 21 Harris Drive\, Lucas\, Ballarat
CATEGORIES:Ballarat,Ballarat North (Vic)
ORGANIZER;CN="Marilyn Kent":MAILTO:marilynkent1950@gmail.com
END:VEVENT
END:VCALENDAR