BEGIN:VCALENDAR
VERSION:2.0
PRODID:-//Sing Australia - ECPv6.15.20//NONSGML v1.0//EN
CALSCALE:GREGORIAN
METHOD:PUBLISH
X-WR-CALNAME:Sing Australia
X-ORIGINAL-URL:https://www.singaustralia.com.au
X-WR-CALDESC:Events for Sing Australia
REFRESH-INTERVAL;VALUE=DURATION:PT1H
X-Robots-Tag:noindex
X-PUBLISHED-TTL:PT1H
BEGIN:VTIMEZONE
TZID:Australia/Melbourne
BEGIN:STANDARD
TZOFFSETFROM:+1100
TZOFFSETTO:+1000
TZNAME:AEST
DTSTART:20180331T160000
END:STANDARD
BEGIN:DAYLIGHT
TZOFFSETFROM:+1000
TZOFFSETTO:+1100
TZNAME:AEDT
DTSTART:20181006T160000
END:DAYLIGHT
BEGIN:STANDARD
TZOFFSETFROM:+1100
TZOFFSETTO:+1000
TZNAME:AEST
DTSTART:20190406T160000
END:STANDARD
BEGIN:DAYLIGHT
TZOFFSETFROM:+1000
TZOFFSETTO:+1100
TZNAME:AEDT
DTSTART:20191005T160000
END:DAYLIGHT
BEGIN:STANDARD
TZOFFSETFROM:+1100
TZOFFSETTO:+1000
TZNAME:AEST
DTSTART:20200404T160000
END:STANDARD
BEGIN:DAYLIGHT
TZOFFSETFROM:+1000
TZOFFSETTO:+1100
TZNAME:AEDT
DTSTART:20201003T160000
END:DAYLIGHT
BEGIN:STANDARD
TZOFFSETFROM:+1100
TZOFFSETTO:+1000
TZNAME:AEST
DTSTART:20210403T160000
END:STANDARD
BEGIN:DAYLIGHT
TZOFFSETFROM:+1000
TZOFFSETTO:+1100
TZNAME:AEDT
DTSTART:20211002T160000
END:DAYLIGHT
BEGIN:STANDARD
TZOFFSETFROM:+1100
TZOFFSETTO:+1000
TZNAME:AEST
DTSTART:20220402T160000
END:STANDARD
BEGIN:DAYLIGHT
TZOFFSETFROM:+1000
TZOFFSETTO:+1100
TZNAME:AEDT
DTSTART:20221001T160000
END:DAYLIGHT
BEGIN:STANDARD
TZOFFSETFROM:+1100
TZOFFSETTO:+1000
TZNAME:AEST
DTSTART:20230401T160000
END:STANDARD
BEGIN:DAYLIGHT
TZOFFSETFROM:+1000
TZOFFSETTO:+1100
TZNAME:AEDT
DTSTART:20230930T160000
END:DAYLIGHT
BEGIN:STANDARD
TZOFFSETFROM:+1100
TZOFFSETTO:+1000
TZNAME:AEST
DTSTART:20240406T160000
END:STANDARD
BEGIN:DAYLIGHT
TZOFFSETFROM:+1000
TZOFFSETTO:+1100
TZNAME:AEDT
DTSTART:20241005T160000
END:DAYLIGHT
END:VTIMEZONE
BEGIN:VEVENT
DTSTART;TZID=Australia/Melbourne:20231112T133000
DTEND;TZID=Australia/Melbourne:20231206T143000
DTSTAMP:20260424T121739
CREATED:20231112T232638Z
LAST-MODIFIED:20231112T232650Z
UID:36587-1699795800-1701873000@www.singaustralia.com.au
SUMMARY:Ballarat  West Probus Christmas  Meeting
DESCRIPTION:Christmas Program\nAway in a Manger\nSilent Night\n12 days of Christmas\nRudolf the Red nosed reindeer\nJingle Bell Rock\nIt’s beginning to look a lot like Christmas\nGod rest ye Merry Gentlemen\nGood King Wenceslas\nGo tell it on the Mountain\nSee a Baby\nSilver Bells\nDo you hear what I hear\nThe first Noel \nNo perceived risk for this event
URL:https://www.singaustralia.com.au/gig-calendar/ballarat-west-probus-christmas-meeting/
LOCATION:Sebastopol Bowling Club\, 213 Albert st\, Sebastopol\, Victoria\, 3356\, Australia
CATEGORIES:Ballarat,Ballarat North (Vic)
ORGANIZER;CN="Marilyn Kent":MAILTO:marilynkent1950@gmail.com
END:VEVENT
BEGIN:VEVENT
DTSTART;TZID=Australia/Melbourne:20231112T133000
DTEND;TZID=Australia/Melbourne:20231112T143000
DTSTAMP:20260424T121739
CREATED:20231112T232941Z
LAST-MODIFIED:20231112T232953Z
UID:36593-1699795800-1699799400@www.singaustralia.com.au
SUMMARY:Lucas Probus Christmas Meeting
DESCRIPTION:Christmas Program\nAway in a Manger\nSilent Night\n12 days of Christmas\nRudolf the Red nosed reindeer\nJingle Bell Rock\nIt’s beginning to look a lot like Christmas\nGod rest ye Merry Gentlemen\nGood King Wenceslas\nGo tell it on the Mountain\nSee a Baby\nSilver Bells\nDo you hear what I hear\nThe first Noel \nNo perceived risk for this event
URL:https://www.singaustralia.com.au/gig-calendar/lucas-probus-christmas-meeting/
LOCATION:Wallace Hotel\, 741 Bungaree Rd\, Wallace\, Select a State:\, 3350\, Australia
CATEGORIES:Ballarat,Ballarat North (Vic)
ORGANIZER;CN="Marilyn Kent":MAILTO:marilynkent1950@gmail.com
END:VEVENT
BEGIN:VEVENT
DTSTART;TZID=Australia/Melbourne:20231026T133000
DTEND;TZID=Australia/Melbourne:20231026T143000
DTSTAMP:20260424T121739
CREATED:20230911T072525Z
LAST-MODIFIED:20230911T072534Z
UID:36148-1698327000-1698330600@www.singaustralia.com.au
SUMMARY:Seniors Week Concert
DESCRIPTION:program of Celtic Music\nNo perceived risks
URL:https://www.singaustralia.com.au/gig-calendar/seniors-week-concert-7/
LOCATION:Ballarat Community Hub\, Tuppen Drive\, Sebastopol\, Victoria\, 3352\, Australia
CATEGORIES:Ballarat,Ballarat North (Vic)
ORGANIZER;CN="Marilyn Kent":MAILTO:marilynkent1950@gmail.com
END:VEVENT
BEGIN:VEVENT
DTSTART;TZID=Australia/Melbourne:20231002T110000
DTEND;TZID=Australia/Melbourne:20231002T120000
DTSTAMP:20260424T121739
CREATED:20230911T072449Z
LAST-MODIFIED:20230911T072459Z
UID:36146-1696244400-1696248000@www.singaustralia.com.au
SUMMARY:Seniors Week Concert
DESCRIPTION:Concert organised By Goldens Plains Council\nProgram of Songs from the Shows\nNo perceived risks
URL:https://www.singaustralia.com.au/gig-calendar/seniors-week-concert-6/
LOCATION:Woady Yaloak Recreation facility\, 55 Heales St\, Smythesdale\, Victoria\, 3351\, Australia
CATEGORIES:Ballarat,Ballarat North (Vic)
ORGANIZER;CN="Marilyn Kent":MAILTO:marilynkent1950@gmail.com
END:VEVENT
BEGIN:VEVENT
DTSTART;TZID=Australia/Melbourne:20230630T131500
DTEND;TZID=Australia/Melbourne:20230630T140000
DTSTAMP:20260424T121739
CREATED:20230630T233118Z
LAST-MODIFIED:20230630T233129Z
UID:35626-1688130900-1688133600@www.singaustralia.com.au
SUMMARY:Ballarat Probus Luncheon
DESCRIPTION:PROGRAM OF\nMUSIC FROM THE SHOWS Books 1 3 & SATP 2 \nNo Perceived Risks
URL:https://www.singaustralia.com.au/gig-calendar/ballarat-probus-luncheon/
LOCATION:LEDERMAN HALL BALLARAT HEALTH SERVICES\, Ascot Street\, Ballarat\, Victoria\, 3350\, Australia
CATEGORIES:Ballarat,Ballarat North (Vic)
ORGANIZER;CN="Marilyn Kent":MAILTO:marilynkent1950@gmail.com
END:VEVENT
BEGIN:VEVENT
DTSTART;TZID=Australia/Melbourne:20230515T111500
DTEND;TZID=Australia/Melbourne:20230515T120000
DTSTAMP:20260424T121739
CREATED:20230516T075019Z
LAST-MODIFIED:20230516T075029Z
UID:35367-1684149300-1684152000@www.singaustralia.com.au
SUMMARY:Grevillia/Wendouree Probus Birthday Celebrations
DESCRIPTION:40 minute concert of celtic music
URL:https://www.singaustralia.com.au/gig-calendar/grevillia-wendouree-probus-birthday-celebrations/
LOCATION:Golf House Hotel\, 920 Doveton St Nth\, Ballarat\, Victoria\, 3350\, Australia
CATEGORIES:Ballarat,Ballarat North (Vic)
ORGANIZER;CN="Marilyn Kent":MAILTO:marilynkent1950@gmail.com
END:VEVENT
BEGIN:VEVENT
DTSTART;TZID=Australia/Melbourne:20221212T150000
DTEND;TZID=Australia/Melbourne:20221212T160000
DTSTAMP:20260424T121739
CREATED:20221024T234637Z
LAST-MODIFIED:20221024T234708Z
UID:33841-1670857200-1670860800@www.singaustralia.com.au
SUMMARY:Christmas Concert
DESCRIPTION:Christmas Program for residents of Retirement Village
URL:https://www.singaustralia.com.au/gig-calendar/christmas-concert-5/
LOCATION:Hemsley Park\, Stawell Street\, Ballarat East\, Victoria\, 3350\, Australia
CATEGORIES:Ballarat,Ballarat North (Vic)
ORGANIZER;CN="Marilyn Kent":MAILTO:marilynkent1950@gmail.com
END:VEVENT
BEGIN:VEVENT
DTSTART;TZID=Australia/Melbourne:20221027T133000
DTEND;TZID=Australia/Melbourne:20221027T143000
DTSTAMP:20260424T121739
CREATED:20221024T234851Z
LAST-MODIFIED:20221024T234901Z
UID:33837-1666877400-1666881000@www.singaustralia.com.au
SUMMARY:Seniors Week Concert
DESCRIPTION:Seniors Week concert hosted by Ballarat Neighbourhood Centre.\nSongs from the Shows using Book 1 Book 3 and Songs arouns the Piano Book 2
URL:https://www.singaustralia.com.au/gig-calendar/seniors-week-concert-5/
LOCATION:Sebastopol Hub\, Tuppen St\, Sebastopol\, VIC\, 3356\, Australia
CATEGORIES:Ballarat,Ballarat North (Vic)
ORGANIZER;CN="Marilyn Kent":MAILTO:marilynkent1950@gmail.com
END:VEVENT
BEGIN:VEVENT
DTSTART;TZID=Australia/Melbourne:20220901T083000
DTEND;TZID=Australia/Melbourne:20220901T090000
DTSTAMP:20260424T121739
CREATED:20220812T004325Z
LAST-MODIFIED:20220812T004325Z
UID:33465-1662021000-1662022800@www.singaustralia.com.au
SUMMARY:International Indoor Bowls Tournament
DESCRIPTION:Official Opening of Tournament
URL:https://www.singaustralia.com.au/gig-calendar/international-indoor-bowls-tournament/
LOCATION:Doug Dean Stadium\, Greenhalghs Rd Delacombe\, Ballarat\, Victoria\, 3350\, Australia
CATEGORIES:Ballarat,Ballarat North (Vic)
ORGANIZER;CN="Marilyn Kent":MAILTO:marilynkent1950@gmail.com
END:VEVENT
BEGIN:VEVENT
DTSTART;TZID=Australia/Melbourne:20220602T110000
DTEND;TZID=Australia/Melbourne:20220602T120000
DTSTAMP:20260424T121739
CREATED:20220508T230150Z
LAST-MODIFIED:20220508T230150Z
UID:32973-1654167600-1654171200@www.singaustralia.com.au
SUMMARY:Grevillia/Wendouree Probus Group
DESCRIPTION:40 minute program for birthday celebration of group.
URL:https://www.singaustralia.com.au/gig-calendar/grevillia-wendouree-probus-group/
LOCATION:Golf House Hotel\, 920 Doveton St Nth\, Ballarat\, Victoria\, 3350\, Australia
CATEGORIES:Ballarat,Ballarat North (Vic)
ORGANIZER;CN="Marilyn Kent":MAILTO:marilynkent1950@gmail.com
END:VEVENT
BEGIN:VEVENT
DTSTART;TZID=Australia/Melbourne:20220502T103000
DTEND;TZID=Australia/Melbourne:20220502T120000
DTSTAMP:20260424T121739
CREATED:20220427T074322Z
LAST-MODIFIED:20220427T074329Z
UID:32912-1651487400-1651492800@www.singaustralia.com.au
SUMMARY:Funeral
DESCRIPTION:Funeral for Barb Howes
URL:https://www.singaustralia.com.au/gig-calendar/funeral-4/
LOCATION:Neil Street Uniting Church\, MacArthur Street\, Ballarat\, Vic\, 3350\, Australia
CATEGORIES:Ballarat,Ballarat North (Vic)
ORGANIZER;CN="Marilyn Kent":MAILTO:marilynkent1950@gmail.com
END:VEVENT
BEGIN:VEVENT
DTSTART;TZID=Australia/Melbourne:20220429T110000
DTEND;TZID=Australia/Melbourne:20220429T120000
DTSTAMP:20260424T121739
CREATED:20220427T074238Z
LAST-MODIFIED:20220427T074246Z
UID:32909-1651230000-1651233600@www.singaustralia.com.au
SUMMARY:Funeral
DESCRIPTION:Funeral for Val Dickins
URL:https://www.singaustralia.com.au/gig-calendar/funeral-3/
LOCATION:st.Bernards Catholic Church\, Lerderderg St\, Bacchus Marsh\, Victoria\, 3340\, Australia
CATEGORIES:Ballarat,Ballarat North (Vic)
ORGANIZER;CN="Marilyn Kent":MAILTO:marilynkent1950@gmail.com
END:VEVENT
BEGIN:VEVENT
DTSTART;TZID=Australia/Melbourne:20211216T110000
DTEND;TZID=Australia/Melbourne:20211216T123000
DTSTAMP:20260424T121739
CREATED:20211125T041651Z
LAST-MODIFIED:20211125T041658Z
UID:32335-1639652400-1639657800@www.singaustralia.com.au
SUMMARY:Pre Christmas Picnic
DESCRIPTION:Picnic to get together after lock down and before Christmas.
URL:https://www.singaustralia.com.au/gig-calendar/pre-christmas-picnic/
LOCATION:Ballarat Light Opera  Company\, 608 Peel Street North\, Ballarat North\, Victoria\, 3350\, Australia
CATEGORIES:Ballarat,Ballarat North (Vic)
END:VEVENT
BEGIN:VEVENT
DTSTART;TZID=Australia/Melbourne:20211124T183000
DTEND;TZID=Australia/Melbourne:20211124T183000
DTSTAMP:20260424T121739
CREATED:20211125T041621Z
LAST-MODIFIED:20211125T041631Z
UID:32332-1637778600-1637778600@www.singaustralia.com.au
SUMMARY:Post lock down\, pre Christmas Members picnic get together
DESCRIPTION:After having another year of lock downs therefore no singing times we are now able to get together to enjoy each others company and to have a sing before Christmas. We will be meeting under the trees in the park next door to our usual practice venue. We will have access to the hall should weather be inclement. Members attending are asked to bring their own picnic\, folding chair\, Christmas song books and Proof of Covid vaccination.
URL:https://www.singaustralia.com.au/gig-calendar/post-lock-down-pre-christmas-members-picnic-get-together/
LOCATION:Ballarat Light Opera  Company\, 608 Peel Street North\, Ballarat North\, Victoria\, 3350\, Australia
CATEGORIES:Ballarat,Ballarat North (Vic)
END:VEVENT
BEGIN:VEVENT
DTSTART;TZID=Australia/Melbourne:20210425T101500
DTEND;TZID=Australia/Melbourne:20210425T113000
DTSTAMP:20260424T121739
CREATED:20210411T235327Z
LAST-MODIFIED:20210412T003151Z
UID:31326-1619345700-1619350200@www.singaustralia.com.au
SUMMARY:Anzac Day Ceremony
DESCRIPTION:Perform at the City of Ballarat/RSL ceremony at the cenotaph in Ballarat. COVID restrictions to be adhered to. Exact numbers that can participate still to be advised.
URL:https://www.singaustralia.com.au/gig-calendar/anzac-day-ceremony-3/
LOCATION:cenotaph\, Sturt Street\, Ballarat\, Victoria\, 3350\, Australia
CATEGORIES:Ballarat,Ballarat North (Vic)
END:VEVENT
BEGIN:VEVENT
DTSTART;TZID=Australia/Melbourne:20210218T110000
DTEND;TZID=Australia/Melbourne:20210218T120000
DTSTAMP:20260424T121739
CREATED:20210205T001618Z
LAST-MODIFIED:20210205T001628Z
UID:31076-1613646000-1613649600@www.singaustralia.com.au
SUMMARY:Outdoor sing in the park
DESCRIPTION:Get together to enjoy a sing in the park.
URL:https://www.singaustralia.com.au/gig-calendar/outdoor-sing-in-the-park/
LOCATION:BLOC\, Peel Street North\, Ballarat\, Vic\, 3350\, Australia
CATEGORIES:Ballarat,Ballarat North (Vic)
END:VEVENT
BEGIN:VEVENT
DTSTART;TZID=Australia/Melbourne:20210215T163000
DTEND;TZID=Australia/Melbourne:20210215T173000
DTSTAMP:20260424T121739
CREATED:20210205T001645Z
LAST-MODIFIED:20210205T001711Z
UID:31075-1613406600-1613410200@www.singaustralia.com.au
SUMMARY:Sing in the park
DESCRIPTION:Planning on two time slots to get together for a sing in the park.
URL:https://www.singaustralia.com.au/gig-calendar/sing-in-the-park/
LOCATION:21 Legana Park Drive \, Legana\, Tasmania\, 7250\, Australia
CATEGORIES:Ballarat,Ballarat North (Vic)
END:VEVENT
BEGIN:VEVENT
DTSTART;TZID=Australia/Melbourne:20201217T113000
DTEND;TZID=Australia/Melbourne:20201217T130000
DTSTAMP:20260424T121739
CREATED:20201201T004347Z
LAST-MODIFIED:20201201T005301Z
UID:30922-1608204600-1608210000@www.singaustralia.com.au
SUMMARY:Outdoor picnic
DESCRIPTION:Outdoor picnic for up to 50 members to get together before Christmas. BYO picnic ( no sharing of food or drink) chair. COVID safe plan will be in place. Authority has been given from the City of Ballarat to use public park.
URL:https://www.singaustralia.com.au/gig-calendar/outdoor-picnic/
LOCATION:BLOC\, Peel street North\, Ballarat\, Vic\, 3350\, Australia
CATEGORIES:Ballarat,Ballarat North (Vic)
END:VEVENT
BEGIN:VEVENT
DTSTART;TZID=Australia/Melbourne:20201214T043000
DTEND;TZID=Australia/Melbourne:20201214T180000
DTSTAMP:20260424T121739
CREATED:20201201T005232Z
LAST-MODIFIED:20201201T005304Z
UID:30920-1607920200-1607968800@www.singaustralia.com.au
SUMMARY:Outdoor picnic
DESCRIPTION:An outdoor picnic for up to 50 members. BYO a food\, drink and chair. ( no sharing of food). Hand sanitiser\, social distancing and registering of those in attendance.
URL:https://www.singaustralia.com.au/gig-calendar/outdoor-picnic-2/
LOCATION:BLO\, Park next to BLOC Peel Street North\, Ballarat\, Vic\, 3350\, Australia
CATEGORIES:Ballarat,Ballarat North (Vic)
END:VEVENT
BEGIN:VEVENT
DTSTART;TZID=Australia/Melbourne:20200326T133000
DTEND;TZID=Australia/Melbourne:20200326T143000
DTSTAMP:20260424T121739
CREATED:20200226T204448Z
LAST-MODIFIED:20200226T204457Z
UID:30069-1585229400-1585233000@www.singaustralia.com.au
SUMMARY:Mercy Place
DESCRIPTION:Present a program of songs for residents of aged care facility.
URL:https://www.singaustralia.com.au/gig-calendar/mercy-place/
LOCATION:Mercy Place\, Corbett Street\, Ballarat East\, Vic\, 3350\, Australia
CATEGORIES:Ballarat,Ballarat North (Vic)
END:VEVENT
BEGIN:VEVENT
DTSTART;TZID=Australia/Melbourne:20200317T140000
DTEND;TZID=Australia/Melbourne:20200317T150000
DTSTAMP:20260424T121739
CREATED:20200206T024921Z
LAST-MODIFIED:20200316T014659Z
UID:29727-1584453600-1584457200@www.singaustralia.com.au
SUMMARY:St Patrick’s Day
DESCRIPTION:Performing in the MacDonald bandstand\, Present a program of Irish songs.
URL:https://www.singaustralia.com.au/gig-calendar/st-patricks-day-3/
LOCATION:ballarat botanical gardens\, Wendouree Park\, Ballarat\, VIC\, Australia
CATEGORIES:Ballarat,Ballarat North (Vic)
END:VEVENT
BEGIN:VEVENT
DTSTART;TZID=Australia/Melbourne:20200212T133000
DTEND;TZID=Australia/Melbourne:20200212T143000
DTSTAMP:20260424T121739
CREATED:20200206T024900Z
LAST-MODIFIED:20200206T024923Z
UID:29725-1581514200-1581517800@www.singaustralia.com.au
SUMMARY:Ingenia Gardens
DESCRIPTION:Present a program of love songs leading into Valentines Day
URL:https://www.singaustralia.com.au/gig-calendar/ingenia-gardens-4/
LOCATION:Ingenia Gardens Hertford Street\, Hertford Street\, Ballarat\, Victoria\, 3350\, Australia
CATEGORIES:Ballarat,Ballarat North (Vic)
END:VEVENT
BEGIN:VEVENT
DTSTART;TZID=Australia/Melbourne:20200126T110000
DTEND;TZID=Australia/Melbourne:20200126T120000
DTSTAMP:20260424T121739
CREATED:20200121T064432Z
LAST-MODIFIED:20200121T064439Z
UID:29485-1580036400-1580040000@www.singaustralia.com.au
SUMMARY:Australia Day Ceremony
DESCRIPTION:Perform as part of the Australia Day Ceremony at Bungaree.
URL:https://www.singaustralia.com.au/gig-calendar/australia-day-ceremony-7/
LOCATION:Memorial Wall\, Bungaree\, Main Street\, Bungaree\, Vic\, 3352\, Australia
CATEGORIES:Ballarat,Ballarat North (Vic)
END:VEVENT
BEGIN:VEVENT
DTSTART;TZID=Australia/Melbourne:20191216T104500
DTEND;TZID=Australia/Melbourne:20191216T120000
DTSTAMP:20260424T121739
CREATED:20191122T015302Z
LAST-MODIFIED:20191122T015314Z
UID:28647-1576493100-1576497600@www.singaustralia.com.au
SUMMARY:Morning Melodies
DESCRIPTION:Present a program at the Ballarat North Sports Club Morning Melodies
URL:https://www.singaustralia.com.au/gig-calendar/morning-melodies-11/
LOCATION:Ballarat North Sports Club\, Creswick Road\, Ballarat\, Vic\, 3350
CATEGORIES:Ballarat,Ballarat North (Vic)
END:VEVENT
BEGIN:VEVENT
DTSTART;TZID=Australia/Melbourne:20191212T134500
DTEND;TZID=Australia/Melbourne:20191212T143000
DTSTAMP:20260424T121739
CREATED:20191122T015244Z
LAST-MODIFIED:20191122T015259Z
UID:28646-1576158300-1576161000@www.singaustralia.com.au
SUMMARY:Geoffrey Cutter Hostel
DESCRIPTION:Sing to residents of aged care facility.
URL:https://www.singaustralia.com.au/gig-calendar/geoffrey-cutter-hostel-4/
LOCATION:Geoffrey Cutter Centre\, Kenny Street\, Ballarat East\, Victoria\, 3350\, Australia
CATEGORIES:Ballarat,Ballarat North (Vic)
END:VEVENT
BEGIN:VEVENT
DTSTART;TZID=Australia/Melbourne:20191211T133000
DTEND;TZID=Australia/Melbourne:20191211T143000
DTSTAMP:20260424T121739
CREATED:20191122T015141Z
LAST-MODIFIED:20191122T015157Z
UID:28643-1576071000-1576074600@www.singaustralia.com.au
SUMMARY:W.B. Messer Hostel
DESCRIPTION:Sing to residents of aged care facility.
URL:https://www.singaustralia.com.au/gig-calendar/w-b-messer-hostel-5/
LOCATION:W.B Messer Hostel\, Gillies Street\, Wendouree\, Vic\, 3355\, Australia
CATEGORIES:Ballarat,Ballarat North (Vic)
END:VEVENT
BEGIN:VEVENT
DTSTART;TZID=Australia/Melbourne:20191211T113000
DTEND;TZID=Australia/Melbourne:20191211T120000
DTSTAMP:20260424T121739
CREATED:20191122T015225Z
LAST-MODIFIED:20191122T015242Z
UID:28644-1576063800-1576065600@www.singaustralia.com.au
SUMMARY:Probus Club Christmas Party
DESCRIPTION:Perform a short bracket of Christmas songs for a Probus Club Christmas Party
URL:https://www.singaustralia.com.au/gig-calendar/probus-club-christmas-party/
LOCATION:Greyhound Racing Track\, Rubicon Street\, Redan\, Vic\, 3350
CATEGORIES:Ballarat,Ballarat North (Vic)
END:VEVENT
BEGIN:VEVENT
DTSTART;TZID=Australia/Melbourne:20191209T173000
DTEND;TZID=Australia/Melbourne:20191209T183000
DTSTAMP:20260424T121739
CREATED:20191122T015126Z
LAST-MODIFIED:20191122T015139Z
UID:28642-1575912600-1575916200@www.singaustralia.com.au
SUMMARY:Ballarat Mechanics Institute
DESCRIPTION:Our Ballarat group practices at the Ballarat Mechanics Institute. The members of the institute have invited us to sing some carols at their Christmas drinks evening.
URL:https://www.singaustralia.com.au/gig-calendar/ballarat-mechanics-institute/
LOCATION:Ballarat Mechanics Institute\, Sturt Street\, Ballarat\, Vic\, 3350\, Australia
CATEGORIES:Ballarat,Ballarat North (Vic)
END:VEVENT
BEGIN:VEVENT
DTSTART;TZID=Australia/Melbourne:20191208T200000
DTEND;TZID=Australia/Melbourne:20191208T210000
DTSTAMP:20260424T121739
CREATED:20191122T015112Z
LAST-MODIFIED:20191122T015119Z
UID:28641-1575835200-1575838800@www.singaustralia.com.au
SUMMARY:Bungaree Carols by Candlelight
DESCRIPTION:Perform as part of this beautiful country village Carols by Candlelight.
URL:https://www.singaustralia.com.au/gig-calendar/bungaree-carols-by-candlelight-2/
LOCATION:Bungaree Anglican Church\, Main Street\, Bungaree\, Vic\, 3352\, Australia
CATEGORIES:Ballarat,Ballarat North (Vic)
END:VEVENT
BEGIN:VEVENT
DTSTART;TZID=Australia/Melbourne:20191207T190000
DTEND;TZID=Australia/Melbourne:20191207T213000
DTSTAMP:20260424T121739
CREATED:20191122T015051Z
LAST-MODIFIED:20191122T015108Z
UID:28639-1575745200-1575754200@www.singaustralia.com.au
SUMMARY:Buninyong Carols by Candlelight
DESCRIPTION:We are asked annually to be the choir to back all of the Carol singing at this beautiful Carols by Candlelight.
URL:https://www.singaustralia.com.au/gig-calendar/buninyong-carols-by-candlelight-2/
LOCATION:De Soza Park\, Warrenheip Street\, buninyong\, Victoria\, 3357
CATEGORIES:Ballarat,Ballarat North (Vic)
END:VEVENT
END:VCALENDAR