BEGIN:VCALENDAR
VERSION:2.0
PRODID:-//Sing Australia - ECPv6.15.20//NONSGML v1.0//EN
CALSCALE:GREGORIAN
METHOD:PUBLISH
X-WR-CALNAME:Sing Australia
X-ORIGINAL-URL:https://www.singaustralia.com.au
X-WR-CALDESC:Events for Sing Australia
REFRESH-INTERVAL;VALUE=DURATION:PT1H
X-Robots-Tag:noindex
X-PUBLISHED-TTL:PT1H
BEGIN:VTIMEZONE
TZID:Australia/Melbourne
BEGIN:STANDARD
TZOFFSETFROM:+1100
TZOFFSETTO:+1000
TZNAME:AEST
DTSTART:20180331T160000
END:STANDARD
BEGIN:DAYLIGHT
TZOFFSETFROM:+1000
TZOFFSETTO:+1100
TZNAME:AEDT
DTSTART:20181006T160000
END:DAYLIGHT
BEGIN:STANDARD
TZOFFSETFROM:+1100
TZOFFSETTO:+1000
TZNAME:AEST
DTSTART:20190406T160000
END:STANDARD
BEGIN:DAYLIGHT
TZOFFSETFROM:+1000
TZOFFSETTO:+1100
TZNAME:AEDT
DTSTART:20191005T160000
END:DAYLIGHT
BEGIN:STANDARD
TZOFFSETFROM:+1100
TZOFFSETTO:+1000
TZNAME:AEST
DTSTART:20200404T160000
END:STANDARD
BEGIN:DAYLIGHT
TZOFFSETFROM:+1000
TZOFFSETTO:+1100
TZNAME:AEDT
DTSTART:20201003T160000
END:DAYLIGHT
BEGIN:STANDARD
TZOFFSETFROM:+1100
TZOFFSETTO:+1000
TZNAME:AEST
DTSTART:20210403T160000
END:STANDARD
BEGIN:DAYLIGHT
TZOFFSETFROM:+1000
TZOFFSETTO:+1100
TZNAME:AEDT
DTSTART:20211002T160000
END:DAYLIGHT
END:VTIMEZONE
BEGIN:VEVENT
DTSTART;TZID=Australia/Melbourne:20200317T140000
DTEND;TZID=Australia/Melbourne:20200317T150000
DTSTAMP:20260424T132512
CREATED:20200206T024921Z
LAST-MODIFIED:20200316T014659Z
UID:29727-1584453600-1584457200@www.singaustralia.com.au
SUMMARY:St Patrick’s Day
DESCRIPTION:Performing in the MacDonald bandstand\, Present a program of Irish songs.
URL:https://www.singaustralia.com.au/gig-calendar/st-patricks-day-3/
LOCATION:ballarat botanical gardens\, Wendouree Park\, Ballarat\, VIC\, Australia
CATEGORIES:Ballarat,Ballarat North (Vic)
END:VEVENT
BEGIN:VEVENT
DTSTART;TZID=Australia/Melbourne:20200212T133000
DTEND;TZID=Australia/Melbourne:20200212T143000
DTSTAMP:20260424T132512
CREATED:20200206T024900Z
LAST-MODIFIED:20200206T024923Z
UID:29725-1581514200-1581517800@www.singaustralia.com.au
SUMMARY:Ingenia Gardens
DESCRIPTION:Present a program of love songs leading into Valentines Day
URL:https://www.singaustralia.com.au/gig-calendar/ingenia-gardens-4/
LOCATION:Ingenia Gardens Hertford Street\, Hertford Street\, Ballarat\, Victoria\, 3350\, Australia
CATEGORIES:Ballarat,Ballarat North (Vic)
END:VEVENT
BEGIN:VEVENT
DTSTART;TZID=Australia/Melbourne:20200126T110000
DTEND;TZID=Australia/Melbourne:20200126T120000
DTSTAMP:20260424T132512
CREATED:20200121T064432Z
LAST-MODIFIED:20200121T064439Z
UID:29485-1580036400-1580040000@www.singaustralia.com.au
SUMMARY:Australia Day Ceremony
DESCRIPTION:Perform as part of the Australia Day Ceremony at Bungaree.
URL:https://www.singaustralia.com.au/gig-calendar/australia-day-ceremony-7/
LOCATION:Memorial Wall\, Bungaree\, Main Street\, Bungaree\, Vic\, 3352\, Australia
CATEGORIES:Ballarat,Ballarat North (Vic)
END:VEVENT
BEGIN:VEVENT
DTSTART;TZID=Australia/Melbourne:20191216T104500
DTEND;TZID=Australia/Melbourne:20191216T120000
DTSTAMP:20260424T132512
CREATED:20191122T015302Z
LAST-MODIFIED:20191122T015314Z
UID:28647-1576493100-1576497600@www.singaustralia.com.au
SUMMARY:Morning Melodies
DESCRIPTION:Present a program at the Ballarat North Sports Club Morning Melodies
URL:https://www.singaustralia.com.au/gig-calendar/morning-melodies-11/
LOCATION:Ballarat North Sports Club\, Creswick Road\, Ballarat\, Vic\, 3350
CATEGORIES:Ballarat,Ballarat North (Vic)
END:VEVENT
BEGIN:VEVENT
DTSTART;TZID=Australia/Melbourne:20191212T134500
DTEND;TZID=Australia/Melbourne:20191212T143000
DTSTAMP:20260424T132512
CREATED:20191122T015244Z
LAST-MODIFIED:20191122T015259Z
UID:28646-1576158300-1576161000@www.singaustralia.com.au
SUMMARY:Geoffrey Cutter Hostel
DESCRIPTION:Sing to residents of aged care facility.
URL:https://www.singaustralia.com.au/gig-calendar/geoffrey-cutter-hostel-4/
LOCATION:Geoffrey Cutter Centre\, Kenny Street\, Ballarat East\, Victoria\, 3350\, Australia
CATEGORIES:Ballarat,Ballarat North (Vic)
END:VEVENT
BEGIN:VEVENT
DTSTART;TZID=Australia/Melbourne:20191211T133000
DTEND;TZID=Australia/Melbourne:20191211T143000
DTSTAMP:20260424T132512
CREATED:20191122T015141Z
LAST-MODIFIED:20191122T015157Z
UID:28643-1576071000-1576074600@www.singaustralia.com.au
SUMMARY:W.B. Messer Hostel
DESCRIPTION:Sing to residents of aged care facility.
URL:https://www.singaustralia.com.au/gig-calendar/w-b-messer-hostel-5/
LOCATION:W.B Messer Hostel\, Gillies Street\, Wendouree\, Vic\, 3355\, Australia
CATEGORIES:Ballarat,Ballarat North (Vic)
END:VEVENT
BEGIN:VEVENT
DTSTART;TZID=Australia/Melbourne:20191211T113000
DTEND;TZID=Australia/Melbourne:20191211T120000
DTSTAMP:20260424T132512
CREATED:20191122T015225Z
LAST-MODIFIED:20191122T015242Z
UID:28644-1576063800-1576065600@www.singaustralia.com.au
SUMMARY:Probus Club Christmas Party
DESCRIPTION:Perform a short bracket of Christmas songs for a Probus Club Christmas Party
URL:https://www.singaustralia.com.au/gig-calendar/probus-club-christmas-party/
LOCATION:Greyhound Racing Track\, Rubicon Street\, Redan\, Vic\, 3350
CATEGORIES:Ballarat,Ballarat North (Vic)
END:VEVENT
BEGIN:VEVENT
DTSTART;TZID=Australia/Melbourne:20191209T173000
DTEND;TZID=Australia/Melbourne:20191209T183000
DTSTAMP:20260424T132512
CREATED:20191122T015126Z
LAST-MODIFIED:20191122T015139Z
UID:28642-1575912600-1575916200@www.singaustralia.com.au
SUMMARY:Ballarat Mechanics Institute
DESCRIPTION:Our Ballarat group practices at the Ballarat Mechanics Institute. The members of the institute have invited us to sing some carols at their Christmas drinks evening.
URL:https://www.singaustralia.com.au/gig-calendar/ballarat-mechanics-institute/
LOCATION:Ballarat Mechanics Institute\, Sturt Street\, Ballarat\, Vic\, 3350\, Australia
CATEGORIES:Ballarat,Ballarat North (Vic)
END:VEVENT
BEGIN:VEVENT
DTSTART;TZID=Australia/Melbourne:20191208T200000
DTEND;TZID=Australia/Melbourne:20191208T210000
DTSTAMP:20260424T132512
CREATED:20191122T015112Z
LAST-MODIFIED:20191122T015119Z
UID:28641-1575835200-1575838800@www.singaustralia.com.au
SUMMARY:Bungaree Carols by Candlelight
DESCRIPTION:Perform as part of this beautiful country village Carols by Candlelight.
URL:https://www.singaustralia.com.au/gig-calendar/bungaree-carols-by-candlelight-2/
LOCATION:Bungaree Anglican Church\, Main Street\, Bungaree\, Vic\, 3352\, Australia
CATEGORIES:Ballarat,Ballarat North (Vic)
END:VEVENT
BEGIN:VEVENT
DTSTART;TZID=Australia/Melbourne:20191207T190000
DTEND;TZID=Australia/Melbourne:20191207T213000
DTSTAMP:20260424T132512
CREATED:20191122T015051Z
LAST-MODIFIED:20191122T015108Z
UID:28639-1575745200-1575754200@www.singaustralia.com.au
SUMMARY:Buninyong Carols by Candlelight
DESCRIPTION:We are asked annually to be the choir to back all of the Carol singing at this beautiful Carols by Candlelight.
URL:https://www.singaustralia.com.au/gig-calendar/buninyong-carols-by-candlelight-2/
LOCATION:De Soza Park\, Warrenheip Street\, buninyong\, Victoria\, 3357
CATEGORIES:Ballarat,Ballarat North (Vic)
END:VEVENT
BEGIN:VEVENT
DTSTART;TZID=Australia/Melbourne:20191204T110000
DTEND;TZID=Australia/Melbourne:20191204T120000
DTSTAMP:20260424T132512
CREATED:20191122T015022Z
LAST-MODIFIED:20191122T015027Z
UID:28636-1575457200-1575460800@www.singaustralia.com.au
SUMMARY:Moorabool Shire Seniors Christmas celebration
DESCRIPTION:Present a Christmas program for members of Senior Citizens Club
URL:https://www.singaustralia.com.au/gig-calendar/moorabool-shire-seniors-christmas-celebration/
LOCATION:Ballan Senior Citizens Centre\, Stieglitz Street\, Ballan\, Vic\, 3342\, Australia
CATEGORIES:Ballarat,Ballarat North (Vic)
END:VEVENT
BEGIN:VEVENT
DTSTART;TZID=Australia/Melbourne:20191203T133000
DTEND;TZID=Australia/Melbourne:20191203T141500
DTSTAMP:20260424T132512
CREATED:20191122T015004Z
LAST-MODIFIED:20191122T015024Z
UID:28634-1575379800-1575382500@www.singaustralia.com.au
SUMMARY:Airforce Association Christmas Luncheon
DESCRIPTION:Bring some Christmas cheer to the members of the Airforce association as they celebrate their Christmas Party.
URL:https://www.singaustralia.com.au/gig-calendar/airforce-association-christmas-luncheon/
LOCATION:Air Force Association\, Ballarat Airport\, Ballarat\, Vic\, 3350
CATEGORIES:Ballarat,Ballarat North (Vic)
END:VEVENT
BEGIN:VEVENT
DTSTART;TZID=Australia/Melbourne:20191127T140000
DTEND;TZID=Australia/Melbourne:20191127T150000
DTSTAMP:20260424T132512
CREATED:20191118T035752Z
LAST-MODIFIED:20191118T035803Z
UID:28535-1574863200-1574866800@www.singaustralia.com.au
SUMMARY:Eureka Village Aged Care Facility
DESCRIPTION:Sing to residents of aged care facility
URL:https://www.singaustralia.com.au/gig-calendar/eureka-village-aged-care-facility/
LOCATION:Eureka Village\, Kenny Street\, Ballarat East\, Vic\, 3350\, Australia
CATEGORIES:Ballarat,Ballarat North (Vic)
END:VEVENT
BEGIN:VEVENT
DTSTART;TZID=Australia/Melbourne:20191121T133000
DTEND;TZID=Australia/Melbourne:20191121T140000
DTSTAMP:20260424T132512
CREATED:20191118T035102Z
LAST-MODIFIED:20191118T035755Z
UID:28534-1574343000-1574344800@www.singaustralia.com.au
SUMMARY:Eyres House Christmas Party
DESCRIPTION:The first of our Christmas gigs. We have been honoured to be singing at Eyres House for their Christmas Party for well over 10 years. We look forward to this day each year.
URL:https://www.singaustralia.com.au/gig-calendar/eyres-house-christmas-party-2/
LOCATION:Eyres House\, 810 Ligar Street\, Ballarat North\, Vic\, 3350\, Australia
CATEGORIES:Ballarat,Ballarat North (Vic)
END:VEVENT
BEGIN:VEVENT
DTSTART;TZID=Australia/Melbourne:20191120T134500
DTEND;TZID=Australia/Melbourne:20191120T144500
DTSTAMP:20260424T132512
CREATED:20191118T034904Z
LAST-MODIFIED:20191118T034915Z
UID:28533-1574257500-1574261100@www.singaustralia.com.au
SUMMARY:Hailey House aged Care
DESCRIPTION:Present a program to residents of aged care facility.
URL:https://www.singaustralia.com.au/gig-calendar/hailey-house-aged-care/
LOCATION:Hailey House\, Norman Street\, Ballarat North\, Vic\, 3350\, Australia
CATEGORIES:Ballarat,Ballarat North (Vic)
ORGANIZER;CN="Carolyn Priddle":MAILTO:linley46@hotmail.com
END:VEVENT
BEGIN:VEVENT
DTSTART;TZID=Australia/Melbourne:20191113T133000
DTEND;TZID=Australia/Melbourne:20191113T143000
DTSTAMP:20260424T132512
CREATED:20191110T205837Z
LAST-MODIFIED:20191110T205843Z
UID:28393-1573651800-1573655400@www.singaustralia.com.au
SUMMARY:Sebastopol Senior Citizens
DESCRIPTION:Sing for Sebastopol Senior Citizens. Vickers Street\, Sebastopol. 3356.
URL:https://www.singaustralia.com.au/gig-calendar/sebastopol-senior-citizens/
LOCATION:sebastopol Senior Citizens Centre\, Vickers Street\, Sebastopol\, Vic\, 3356\, Australia
CATEGORIES:Ballarat,Ballarat North (Vic)
ORGANIZER;CN="Carolyn Priddle":MAILTO:linley46@hotmail.com
END:VEVENT
BEGIN:VEVENT
DTSTART;TZID=Australia/Melbourne:20191111T100000
DTEND;TZID=Australia/Melbourne:20191111T113000
DTSTAMP:20260424T132512
CREATED:20191110T205759Z
LAST-MODIFIED:20191110T205806Z
UID:28392-1573466400-1573471800@www.singaustralia.com.au
SUMMARY:Remembrance Day Ceremony
DESCRIPTION:Sing at Remembrance Day Ceremony at the Cenotaph\, Sturt Street Ballarat. Between Lyons and Dawson Streets.
URL:https://www.singaustralia.com.au/gig-calendar/remembrance-day-ceremony-7/
LOCATION:21 Legana Park Drive \, Legana\, Tasmania\, 7250\, Australia
CATEGORIES:Ballarat,Ballarat North (Vic)
END:VEVENT
BEGIN:VEVENT
DTSTART;TZID=Australia/Melbourne:20191030T133000
DTEND;TZID=Australia/Melbourne:20191030T142000
DTSTAMP:20260424T132512
CREATED:20191030T210221Z
LAST-MODIFIED:20191030T210242Z
UID:28077-1572442200-1572445200@www.singaustralia.com.au
SUMMARY:Seniors Celebration
DESCRIPTION:Singing at the seniors celebration.
URL:https://www.singaustralia.com.au/gig-calendar/seniors-celebration/
LOCATION:Sebastopol Hub\, Tuppen St\, Sebastopol\, VIC\, 3356\, Australia
CATEGORIES:Ballarat,Ballarat North (Vic)
END:VEVENT
BEGIN:VEVENT
DTSTART;TZID=Australia/Melbourne:20190927T133000
DTEND;TZID=Australia/Melbourne:20190927T143000
DTSTAMP:20260424T132512
CREATED:20190911T022947Z
LAST-MODIFIED:20190911T023050Z
UID:26634-1569591000-1569594600@www.singaustralia.com.au
SUMMARY:Creswick Senior Citizens
DESCRIPTION:Present program for members of Senior Citizens.
URL:https://www.singaustralia.com.au/gig-calendar/creswick-senior-citizens/
LOCATION:Creswick Senior Citizens Centre\, Behind Creswick Town Hall\, Creswick\, Victoria\, Australia
CATEGORIES:Ballarat,Ballarat North (Vic)
END:VEVENT
BEGIN:VEVENT
DTSTART;TZID=Australia/Melbourne:20190918T140000
DTEND;TZID=Australia/Melbourne:20190918T150000
DTSTAMP:20260424T132512
CREATED:20190911T022925Z
LAST-MODIFIED:20190911T022943Z
UID:26632-1568815200-1568818800@www.singaustralia.com.au
SUMMARY:Kelaston Aged Care
DESCRIPTION:present program to residents of aged care facility
URL:https://www.singaustralia.com.au/gig-calendar/kelaston-aged-care-3/
LOCATION:Kelaston Aged Care\, Howitt Street\, Wendouree\, Victoria\, 3355\, Australia
CATEGORIES:Ballarat,Ballarat North (Vic)
END:VEVENT
BEGIN:VEVENT
DTSTART;TZID=Australia/Melbourne:20190908T111500
DTEND;TZID=Australia/Melbourne:20190908T120000
DTSTAMP:20260424T132512
CREATED:20190829T054826Z
LAST-MODIFIED:20190829T054833Z
UID:26389-1567941300-1567944000@www.singaustralia.com.au
SUMMARY:Daylesford Historic Train and Market
DESCRIPTION:Sing a selection of bright fun songs for the shoppers and train travellers at the Daylesford Market.
URL:https://www.singaustralia.com.au/gig-calendar/daylesford-historic-train-and-market/
LOCATION:Daylesford Historic Railway Station\, Hill Street\, Daylesford\, Victoria\, 3460\, Australia
CATEGORIES:Ballarat,Ballarat North (Vic)
END:VEVENT
BEGIN:VEVENT
DTSTART;TZID=Australia/Melbourne:20190811T133000
DTEND;TZID=Australia/Melbourne:20190811T170000
DTSTAMP:20260424T132512
CREATED:20190719T020054Z
LAST-MODIFIED:20190719T020054Z
UID:25795-1565530200-1565542800@www.singaustralia.com.au
SUMMARY:Combined Concert with The Little Brass Band
DESCRIPTION:Fund Raising concert combined with The Little Brass Band. This year the monies raised are being given to Life Line Ballarat.
URL:https://www.singaustralia.com.au/gig-calendar/combined-concert-with-the-little-brass-band/
LOCATION:Neil Street Uniting Church\, Neil Street\, Ballarat North\, Victoria\, 3350\, Australia
CATEGORIES:Ballarat,Ballarat North (Vic)
END:VEVENT
BEGIN:VEVENT
DTSTART;TZID=Australia/Melbourne:20190731T133000
DTEND;TZID=Australia/Melbourne:20190731T143000
DTSTAMP:20260424T132512
CREATED:20190617T021110Z
LAST-MODIFIED:20190617T021116Z
UID:25054-1564579800-1564583400@www.singaustralia.com.au
SUMMARY:W.B. Messer Hostel
DESCRIPTION:Sing for residents of aged care facility.
URL:https://www.singaustralia.com.au/gig-calendar/w-b-messer-hostel-4/
LOCATION:W.B Messer Hostel\, Gillies Street\, Wendouree\, Vic\, 3355\, Australia
CATEGORIES:Ballarat,Ballarat North (Vic)
END:VEVENT
BEGIN:VEVENT
DTSTART;TZID=Australia/Melbourne:20190717T140000
DTEND;TZID=Australia/Melbourne:20190717T150000
DTSTAMP:20260424T132512
CREATED:20190617T021022Z
LAST-MODIFIED:20190617T021045Z
UID:25052-1563372000-1563375600@www.singaustralia.com.au
SUMMARY:Hailey House Hostel
DESCRIPTION:Provide a fun program of songs for residents of aged care facility.
URL:https://www.singaustralia.com.au/gig-calendar/hailey-house-hostel-3/
LOCATION:Hailey House\, Norman Street\, Ballarat North\, vic\, 3350\, Australia
CATEGORIES:Ballarat,Ballarat North (Vic)
ORGANIZER;CN="Carolyn Priddle":MAILTO:linley46@hotmail.com
END:VEVENT
BEGIN:VEVENT
DTSTART;TZID=Australia/Melbourne:20190710T134500
DTEND;TZID=Australia/Melbourne:20190710T143000
DTSTAMP:20260424T132512
CREATED:20190617T021002Z
LAST-MODIFIED:20190617T021020Z
UID:25051-1562766300-1562769000@www.singaustralia.com.au
SUMMARY:Geoffrey Cutter Hostel
DESCRIPTION:Sing to residents of aged care facility.
URL:https://www.singaustralia.com.au/gig-calendar/geoffrey-cutter-hostel-3/
LOCATION:Geoffrey Cutter Centre\, Kenny Street\, Ballarat East\, Victoria\, 3350\, Australia
CATEGORIES:Ballarat,Ballarat North (Vic)
ORGANIZER;CN="Carolyn Priddle":MAILTO:linley46@hotmail.com
END:VEVENT
BEGIN:VEVENT
DTSTART;TZID=Australia/Melbourne:20190626T110000
DTEND;TZID=Australia/Melbourne:20190626T120000
DTSTAMP:20260424T132512
CREATED:20190612T032056Z
LAST-MODIFIED:20190612T032056Z
UID:25036-1561546800-1561550400@www.singaustralia.com.au
SUMMARY:Gordon Hall Winter Luncheon
DESCRIPTION:This has been an annual sing for us for quite a few years now. The Gordon Hall committee invite residents from Gordon and surrounds to attend a concert and luncheon. Always a great event.
URL:https://www.singaustralia.com.au/gig-calendar/gordon-hall-winter-luncheon/
LOCATION:Gordon Hall\, Main Street\, Gordon\, Vic\, 3345\, Australia
CATEGORIES:Ballarat,Ballarat North (Vic)
END:VEVENT
BEGIN:VEVENT
DTSTART;TZID=Australia/Melbourne:20190612T140000
DTEND;TZID=Australia/Melbourne:20190612T150000
DTSTAMP:20260424T132512
CREATED:20190612T031947Z
LAST-MODIFIED:20190612T032003Z
UID:25032-1560348000-1560351600@www.singaustralia.com.au
SUMMARY:Eureka Village Aged Care
DESCRIPTION:Bring some pleasure through our singing to residents of aged care facility
URL:https://www.singaustralia.com.au/gig-calendar/eureka-village-aged-care/
LOCATION:Eureka Village\, Kenny Street\, Ballarat East\, Vic\, 3350\, Australia
CATEGORIES:Ballarat,Ballarat North (Vic)
END:VEVENT
BEGIN:VEVENT
DTSTART;TZID=Australia/Melbourne:20190606T103000
DTEND;TZID=Australia/Melbourne:20190606T113000
DTSTAMP:20260424T132512
CREATED:20190612T031932Z
LAST-MODIFIED:20190612T031945Z
UID:25030-1559817000-1559820600@www.singaustralia.com.au
SUMMARY:Grevillea Ladies Probus Club
DESCRIPTION:Sing for members of Probus Club at their birthday celebration.
URL:https://www.singaustralia.com.au/gig-calendar/grevillea-ladies-probus-club/
LOCATION:Ballarat North Sportsmans Club\, Creswick Road\, Ballarat\, vic\, 3350\, Australia
CATEGORIES:Ballarat,Ballarat North (Vic)
END:VEVENT
BEGIN:VEVENT
DTSTART;TZID=Australia/Melbourne:20190601T103000
DTEND;TZID=Australia/Melbourne:20190601T113000
DTSTAMP:20260424T132512
CREATED:20190612T031915Z
LAST-MODIFIED:20190612T031930Z
UID:25028-1559385000-1559388600@www.singaustralia.com.au
SUMMARY:Welcome in Winter
DESCRIPTION:Rug up in Winter woolies and sing in the  beautiful foyer of our  historic railway station as trains are arrive and depart.
URL:https://www.singaustralia.com.au/gig-calendar/welcome-in-winter/
LOCATION:Ballarat Railway Station\, Lydiard Street North\, Ballarqt\, Victoria\, 3350\, Australia
CATEGORIES:Ballarat,Ballarat North (Vic)
END:VEVENT
BEGIN:VEVENT
DTSTART;TZID=Australia/Melbourne:20190425T101500
DTEND;TZID=Australia/Melbourne:20190425T113000
DTSTAMP:20260424T132512
CREATED:20190331T212020Z
LAST-MODIFIED:20190331T212024Z
UID:23571-1556187300-1556191800@www.singaustralia.com.au
SUMMARY:Anzac Day Ceremony
DESCRIPTION:Sing along with the Ballarat Brass Band at the official Anzac Day Ceremony at the Cenotaph. 
URL:https://www.singaustralia.com.au/gig-calendar/anzac-day-ceremony-2/
LOCATION:Cenotaph\, Sturt Street\, Ballarat\, Victoria\, 3350\, Australia
CATEGORIES:Ballarat,Ballarat North (Vic)
ORGANIZER;CN="Carolyn Priddle":MAILTO:linley46@hotmail.com
END:VEVENT
END:VCALENDAR