BEGIN:VCALENDAR
VERSION:2.0
PRODID:-//Sing Australia - ECPv6.15.20//NONSGML v1.0//EN
CALSCALE:GREGORIAN
METHOD:PUBLISH
X-ORIGINAL-URL:https://www.singaustralia.com.au
X-WR-CALDESC:Events for Sing Australia
REFRESH-INTERVAL;VALUE=DURATION:PT1H
X-Robots-Tag:noindex
X-PUBLISHED-TTL:PT1H
BEGIN:VTIMEZONE
TZID:Australia/Melbourne
BEGIN:STANDARD
TZOFFSETFROM:+1100
TZOFFSETTO:+1000
TZNAME:AEST
DTSTART:20170401T160000
END:STANDARD
BEGIN:DAYLIGHT
TZOFFSETFROM:+1000
TZOFFSETTO:+1100
TZNAME:AEDT
DTSTART:20170930T160000
END:DAYLIGHT
BEGIN:STANDARD
TZOFFSETFROM:+1100
TZOFFSETTO:+1000
TZNAME:AEST
DTSTART:20180331T160000
END:STANDARD
BEGIN:DAYLIGHT
TZOFFSETFROM:+1000
TZOFFSETTO:+1100
TZNAME:AEDT
DTSTART:20181006T160000
END:DAYLIGHT
BEGIN:STANDARD
TZOFFSETFROM:+1100
TZOFFSETTO:+1000
TZNAME:AEST
DTSTART:20190406T160000
END:STANDARD
BEGIN:DAYLIGHT
TZOFFSETFROM:+1000
TZOFFSETTO:+1100
TZNAME:AEDT
DTSTART:20191005T160000
END:DAYLIGHT
BEGIN:STANDARD
TZOFFSETFROM:+1100
TZOFFSETTO:+1000
TZNAME:AEST
DTSTART:20200404T160000
END:STANDARD
BEGIN:DAYLIGHT
TZOFFSETFROM:+1000
TZOFFSETTO:+1100
TZNAME:AEDT
DTSTART:20201003T160000
END:DAYLIGHT
BEGIN:STANDARD
TZOFFSETFROM:+1100
TZOFFSETTO:+1000
TZNAME:AEST
DTSTART:20210403T160000
END:STANDARD
BEGIN:DAYLIGHT
TZOFFSETFROM:+1000
TZOFFSETTO:+1100
TZNAME:AEDT
DTSTART:20211002T160000
END:DAYLIGHT
BEGIN:STANDARD
TZOFFSETFROM:+1100
TZOFFSETTO:+1000
TZNAME:AEST
DTSTART:20220402T160000
END:STANDARD
BEGIN:DAYLIGHT
TZOFFSETFROM:+1000
TZOFFSETTO:+1100
TZNAME:AEDT
DTSTART:20221001T160000
END:DAYLIGHT
BEGIN:STANDARD
TZOFFSETFROM:+1100
TZOFFSETTO:+1000
TZNAME:AEST
DTSTART:20230401T160000
END:STANDARD
BEGIN:DAYLIGHT
TZOFFSETFROM:+1000
TZOFFSETTO:+1100
TZNAME:AEDT
DTSTART:20230930T160000
END:DAYLIGHT
BEGIN:STANDARD
TZOFFSETFROM:+1100
TZOFFSETTO:+1000
TZNAME:AEST
DTSTART:20240406T160000
END:STANDARD
BEGIN:DAYLIGHT
TZOFFSETFROM:+1000
TZOFFSETTO:+1100
TZNAME:AEDT
DTSTART:20241005T160000
END:DAYLIGHT
BEGIN:STANDARD
TZOFFSETFROM:+1100
TZOFFSETTO:+1000
TZNAME:AEST
DTSTART:20250405T160000
END:STANDARD
BEGIN:DAYLIGHT
TZOFFSETFROM:+1000
TZOFFSETTO:+1100
TZNAME:AEDT
DTSTART:20251004T160000
END:DAYLIGHT
BEGIN:STANDARD
TZOFFSETFROM:+1100
TZOFFSETTO:+1000
TZNAME:AEST
DTSTART:20260404T160000
END:STANDARD
BEGIN:DAYLIGHT
TZOFFSETFROM:+1000
TZOFFSETTO:+1100
TZNAME:AEDT
DTSTART:20261003T160000
END:DAYLIGHT
BEGIN:STANDARD
TZOFFSETFROM:+1100
TZOFFSETTO:+1000
TZNAME:AEST
DTSTART:20270403T160000
END:STANDARD
BEGIN:DAYLIGHT
TZOFFSETFROM:+1000
TZOFFSETTO:+1100
TZNAME:AEDT
DTSTART:20271002T160000
END:DAYLIGHT
END:VTIMEZONE
BEGIN:VTIMEZONE
TZID:Australia/Adelaide
BEGIN:STANDARD
TZOFFSETFROM:+1030
TZOFFSETTO:+0930
TZNAME:ACST
DTSTART:20180331T163000
END:STANDARD
BEGIN:DAYLIGHT
TZOFFSETFROM:+0930
TZOFFSETTO:+1030
TZNAME:ACDT
DTSTART:20181006T163000
END:DAYLIGHT
BEGIN:STANDARD
TZOFFSETFROM:+1030
TZOFFSETTO:+0930
TZNAME:ACST
DTSTART:20190406T163000
END:STANDARD
BEGIN:DAYLIGHT
TZOFFSETFROM:+0930
TZOFFSETTO:+1030
TZNAME:ACDT
DTSTART:20191005T163000
END:DAYLIGHT
BEGIN:STANDARD
TZOFFSETFROM:+1030
TZOFFSETTO:+0930
TZNAME:ACST
DTSTART:20200404T163000
END:STANDARD
BEGIN:DAYLIGHT
TZOFFSETFROM:+0930
TZOFFSETTO:+1030
TZNAME:ACDT
DTSTART:20201003T163000
END:DAYLIGHT
BEGIN:STANDARD
TZOFFSETFROM:+1030
TZOFFSETTO:+0930
TZNAME:ACST
DTSTART:20210403T163000
END:STANDARD
BEGIN:DAYLIGHT
TZOFFSETFROM:+0930
TZOFFSETTO:+1030
TZNAME:ACDT
DTSTART:20211002T163000
END:DAYLIGHT
END:VTIMEZONE
BEGIN:VEVENT
DTSTART;TZID=Australia/Melbourne:20260418T113000
DTEND;TZID=Australia/Melbourne:20260418T130000
DTSTAMP:20260424T045006
CREATED:20260217T034236Z
LAST-MODIFIED:20260220T033540Z
UID:47215-1776511800-1776517200@www.singaustralia.com.au
SUMMARY:Laura Fair 2026
DESCRIPTION:Sing National Anthem at the official opening with the pipe band\, and the 1 hour bracket of songs with recorded music\, (unless we get a pianist) on the main stage overlooking grassed area as in previous years. \nSongbooks: SATP1\, SATP2\, SATP4 \nPerceived risks: None
URL:https://www.singaustralia.com.au/gig-calendar/laura-fair-4/
LOCATION:The Laura Fair\, Hughes St Laura\, Main Stage\, Hughes St\, Laura\, South Australia\, 5480\, Australia
CATEGORIES:Burnside,Gawler,Glenelg,Goolwa,Jamestown,Kadina,Kimba,Lameroo (SA),Orroroo,Port Pirie,Riverland,Warradale
ORGANIZER;CN="Tessa Collins":MAILTO:tessasset@bigpond.com
END:VEVENT
BEGIN:VEVENT
DTSTART;TZID=Australia/Melbourne:20260418T100000
DTEND;TZID=Australia/Melbourne:20260418T110000
DTSTAMP:20260424T045006
CREATED:20260304T215811Z
LAST-MODIFIED:20260304T215811Z
UID:47289-1776506400-1776510000@www.singaustralia.com.au
SUMMARY:Singing at Renmark Hospital Nursing Home
DESCRIPTION:Singing for residents of the home. \nEnter from the Murray Dyer Road entryway for easier access\notherwise park in the main front of hospital park along Ral Ral Ave. \nTo be followed by a coffee and catchup at local coffee shop for those who would like to attend \nSong Books: TBC \nPerceived Risks: None
URL:https://www.singaustralia.com.au/gig-calendar/singing-at-renmark-hospital-nursing-home/
LOCATION:Renmark Hospital Nursing Home\, Murray Dyer Avenue\, Renmark\, 5341
CATEGORIES:Riverland
ORGANIZER;CN="Jacque Zagotsis":MAILTO:jacquezagotsis@gmail.com
END:VEVENT
BEGIN:VEVENT
DTSTART;VALUE=DATE:20260307
DTEND;VALUE=DATE:20260308
DTSTAMP:20260424T045006
CREATED:20260304T215556Z
LAST-MODIFIED:20260304T215556Z
UID:47287-1772841600-1772927999@www.singaustralia.com.au
SUMMARY:Singing at Bonney Lodge Home
DESCRIPTION:Singing for residents at the Bonney Lodge Home in Barmera (next to the hospital) \nFollowed by shared coffees at Lakes cafe on the lakefront. \nSong Books: \n\nBooks as per final decision on Thursday 5 March practice evening.\nLikely using many of the songs from last Home singing last year.\n\nPerceived Risks: None
URL:https://www.singaustralia.com.au/gig-calendar/singing-at-bonney-lodge-home/
LOCATION:Bonney Lodge. Barmera\, Hawdon St\, Barmera\, South\, 5345\, Australia
CATEGORIES:Riverland
ORGANIZER;CN="Jacque Zagotsis":MAILTO:jacquezagotsis@gmail.com
END:VEVENT
BEGIN:VEVENT
DTSTART;TZID=Australia/Melbourne:20251213T180000
DTEND;TZID=Australia/Melbourne:20251213T210000
DTSTAMP:20260424T045006
CREATED:20251127T055609Z
LAST-MODIFIED:20251127T055620Z
UID:46884-1765648800-1765659600@www.singaustralia.com.au
SUMMARY:Christmas party and singing - Riverland
DESCRIPTION:End of year Christmas party and Christmas sing a long\nThis year at private home – Jacque’s house\nBBQ dinner provided\, please bring a salad or sweet to share. \nSongbooks: Christmas 1 & 2 \nPerceived Risks: None
URL:https://www.singaustralia.com.au/gig-calendar/christmas-party-and-singing-riverland/
LOCATION:Jacque Zagotsis’ home
CATEGORIES:Riverland
ORGANIZER;CN="Jacque Zagotsis":MAILTO:jacquezagotsis@gmail.com
END:VEVENT
BEGIN:VEVENT
DTSTART;TZID=Australia/Melbourne:20251213T080000
DTEND;TZID=Australia/Melbourne:20251213T090000
DTSTAMP:20260424T045006
CREATED:20251212T063733Z
LAST-MODIFIED:20251212T063756Z
UID:47054-1765612800-1765616400@www.singaustralia.com.au
SUMMARY:Singing on air ABC Riverland
DESCRIPTION:Singing in the studio with ABC Riverland\nSinging three carols live on air. \nSongbooks: Christmas 1 & 2 \nPerceived risks: None
URL:https://www.singaustralia.com.au/gig-calendar/singing-on-air-abc-riverland/
LOCATION:ABC Riverland Radio\, 121 Ral Ral Avenue\, renmark\, SA\, 5341\, Australia
CATEGORIES:Riverland
ORGANIZER;CN="Jacque Zagotsis":MAILTO:jacquezagotsis@gmail.com
END:VEVENT
BEGIN:VEVENT
DTSTART;TZID=Australia/Melbourne:20251207T190000
DTEND;TZID=Australia/Melbourne:20251207T200000
DTSTAMP:20260424T045006
CREATED:20251109T122953Z
LAST-MODIFIED:20251109T122953Z
UID:46712-1765134000-1765137600@www.singaustralia.com.au
SUMMARY:Berri Carols by the river
DESCRIPTION:Singing Christmas carol at Berri riverfront with other singing and church groups. \nSong Books: \n\nChristmas 2\nPerceived Risks: Microphones and cords etc will all be taken care of by organisers in a safe manner.
URL:https://www.singaustralia.com.au/gig-calendar/berri-carols-by-the-river/
LOCATION:Berri Riverfront lawns\, Riverview Drive\, Berri
CATEGORIES:Riverland
ORGANIZER;CN="Jacque Zagotsis":MAILTO:jacquezagotsis@gmail.com
END:VEVENT
BEGIN:VEVENT
DTSTART;TZID=Australia/Melbourne:20251129T100000
DTEND;TZID=Australia/Melbourne:20251129T110000
DTSTAMP:20260424T045006
CREATED:20251127T054154Z
LAST-MODIFIED:20251127T054446Z
UID:46880-1764410400-1764414000@www.singaustralia.com.au
SUMMARY:Singing Carols at Loxton Hospital Nursing Home
DESCRIPTION:Singing in the Loxton Hospital Nursing Home lounge area\, same place as previous times. \nMeet at the pathway gate at 9.45am \nSing from 10am until about 10.45 then some chat with residents\nThen coffee at Loxton Hotel for those who want to \nWear some Christmas bling with your uniforms \nSongbooks: Christmas 1 & 2 \nPerceived Risks: None.
URL:https://www.singaustralia.com.au/gig-calendar/singing-carols-at-loxton-hospital-nursing-home/
LOCATION:Loxton Nursing Home\, Loxton Hospital Complex\, Drabsch Street\, Loxton\, South Australia\, 5333\, Australia
CATEGORIES:Riverland
ORGANIZER;CN="Jacque Zagotsis":MAILTO:jacquezagotsis@gmail.com
END:VEVENT
BEGIN:VEVENT
DTSTART;TZID=Australia/Melbourne:20251018T100000
DTEND;TZID=Australia/Melbourne:20251018T113000
DTSTAMP:20260424T045006
CREATED:20251017T044604Z
LAST-MODIFIED:20251017T044615Z
UID:46602-1760781600-1760787000@www.singaustralia.com.au
SUMMARY:Singing at Calvary St Catherines Home
DESCRIPTION:Singing for residents in the lounge area of Calvary. \nSongbooks: Songs around the Piano Books 1\, 2 & 3 \nPerceived Risks: None.
URL:https://www.singaustralia.com.au/gig-calendar/singing-at-calvary-st-catherines-home/
LOCATION:Calvary St Catherine’s Residential Aged Care Home\, 26 McGilton Road\, Berri\, South Australia\, 5343\, Australia
CATEGORIES:Riverland
ORGANIZER;CN="Jacque Zagotsis":MAILTO:jacquezagotsis@gmail.com
END:VEVENT
BEGIN:VEVENT
DTSTART;TZID=Australia/Melbourne:20250726T100000
DTEND;TZID=Australia/Melbourne:20250726T110000
DTSTAMP:20260424T045006
CREATED:20250623T062324Z
LAST-MODIFIED:20250623T062324Z
UID:45072-1753524000-1753527600@www.singaustralia.com.au
SUMMARY:Singing at Barmera Nursing Home
DESCRIPTION:Singing for residents at Barmera Nursing Home. We will meet at front door 9.45am. \nSong Books: Song Book 3 (BLUE)\, ANZAC \nSongs: \nSong Book 3 – (BLUE)\nG’day G’day Page 6\nHello Dolly Page 7\nMorning Has Broken Page 12\nI’d Like To Teach The World To Sing Page 9\nAny Dream Will Do Page 3\nSweet Caroline Page 16\nSave The Last Dance For Me Page 14\nUnder The Boardwalk Page 18 \nAnzac Book\nLet There Be Peace On Earth Page 60\nMacNamara’s Band Page 3\nChattanooga Choo Choo Page 4\nThe Last Farewell Page 9\nTwo Little Boys Page 19\nPack Up Your Troubles Page 11 \nPerceived Risks: None
URL:https://www.singaustralia.com.au/gig-calendar/singing-at-barmera-nursing-home/
LOCATION:Barmera Nursing Home\, 24 Hawdon Street\, Barmera\, Australia
CATEGORIES:Riverland
ORGANIZER;CN="Jacque Zagotsis":MAILTO:jacquezagotsis@gmail.com
END:VEVENT
BEGIN:VEVENT
DTSTART;TZID=Australia/Melbourne:20250503T103000
DTEND;TZID=Australia/Melbourne:20250503T113000
DTSTAMP:20260424T045006
CREATED:20250502T033206Z
LAST-MODIFIED:20250502T033222Z
UID:44573-1746268200-1746271800@www.singaustralia.com.au
SUMMARY:Loxton Hospital Nursing Home
DESCRIPTION:Singing for Residents at Loxton Nursing Home\nWHS of Home is paramount and no perceived risks for our members\nMeet at the car park corner gate 10.15am. Gig is through the door at end of the path.\nSinging start 10.30am \nSong Books: Anzac Book and Blue Book 3 \nSongs: Blue Book 3\nG’day G’day\nHello Dolly\nMorning Has Broken\nI’d Like To Teach The World To Sing\nAny Dream Will Do\nSweet Caroline\nSave The Last Dance For Me\nUnder The Boardwalk \nAnzac Book\nLet There Be Peace On Earth\nMacNamara’s Band\nChattanooga Choo Choo\nThe Last Farewell\nTwo Little Boys\nPack Up Your Troubles\nYou Are My Sunshine \nPerceived Risks: None
URL:https://www.singaustralia.com.au/gig-calendar/loxton-hospital-nursing-home/
LOCATION:Loxton Nursing Home\, Loxton Hospital Complex\, Drabsch Street\, Loxton\, South Australia\, 5333\, Australia
CATEGORIES:Riverland
ORGANIZER;CN="Jacque Zagotsis":MAILTO:jacquezagotsis@gmail.com
END:VEVENT
BEGIN:VEVENT
DTSTART;TZID=Australia/Melbourne:20241221T190000
DTEND;TZID=Australia/Melbourne:20241221T210000
DTSTAMP:20260424T045006
CREATED:20241118T000418Z
LAST-MODIFIED:20241118T000459Z
UID:41984-1734807600-1734814800@www.singaustralia.com.au
SUMMARY:Christmas Wonderland Markets Carol Singing
DESCRIPTION:Singing on stage at Christmas markets\, Loxton North Football Club oval No perceived risks\, however we will have steps upto the stage to be aware of Meet at the side of the stage at 6.45pm Singing for 1/2 hour\, then a break whilst Bubble & Squeak ukelele group play\, then a group of Carillon bell players perform before another 1/2 hour singing stint.
URL:https://www.singaustralia.com.au/gig-calendar/christmas-wonderland-markets-carol-singing/
LOCATION:Loxton North Football Oval\, Balfour Ogilvy Avenue 357\, Loxton North\, South Australia\, 5333\, Australia
CATEGORIES:Riverland
ORGANIZER;CN="Jacque Zagotsis":MAILTO:jacquezagotsis@gmail.com
END:VEVENT
BEGIN:VEVENT
DTSTART;TZID=Australia/Melbourne:20241116T103000
DTEND;TZID=Australia/Melbourne:20241116T113000
DTSTAMP:20260424T045006
CREATED:20240902T062644Z
LAST-MODIFIED:20240902T062712Z
UID:38603-1731753000-1731756600@www.singaustralia.com.au
SUMMARY:Singing at Loxton Nursing Home
DESCRIPTION:Singing to residents at the Country Health Connect Loxton District Nursing Home\, Drabsch Street\, Loxton.\nModern up to date facility\, no hazards perceived
URL:https://www.singaustralia.com.au/gig-calendar/singing-at-loxton-nursing-home/
LOCATION:Loxton Nursing Home\, Loxton Hospital Complex\, Drabsch Street\, Loxton\, South Australia\, 5333\, Australia
CATEGORIES:Riverland
END:VEVENT
BEGIN:VEVENT
DTSTART;TZID=Australia/Melbourne:20240914T101500
DTEND;TZID=Australia/Melbourne:20240914T111500
DTSTAMP:20260424T045006
CREATED:20240806T060911Z
LAST-MODIFIED:20240806T060911Z
UID:38436-1726308900-1726312500@www.singaustralia.com.au
SUMMARY:Singing at Bonney Lodge Aged Care Home
DESCRIPTION:Members to sing for residents at Bonney Lodge\nMeet at front door at 10.15 for singing start at 10.30am\nNo perceived risks or hazards
URL:https://www.singaustralia.com.au/gig-calendar/singing-at-bonney-lodge-aged-care-home/
LOCATION:Bonney Lodge. Barmera\, Hawdon St\, Barmera\, South\, 5345\, Australia
CATEGORIES:Riverland
ORGANIZER;CN="Jacque Zagotsis":MAILTO:jacquezagotsis@gmail.com
END:VEVENT
BEGIN:VEVENT
DTSTART;TZID=Australia/Melbourne:20240810T101500
DTEND;TZID=Australia/Melbourne:20240810T111500
DTSTAMP:20260424T045006
CREATED:20240805T034106Z
LAST-MODIFIED:20240805T034116Z
UID:38429-1723284900-1723288500@www.singaustralia.com.au
SUMMARY:Singing at Calvary St Catherine's Residential Aged Care Home
DESCRIPTION:Members to sing together for residents of the nursing home.\nMeet out front at 10.15am to enter and sign in together for 10.30am start\nNo hazards or risks anticipated.
URL:https://www.singaustralia.com.au/gig-calendar/singing-at-calvary-st-catherines-residential-aged-care-home/
LOCATION:Calvary St Catherine’s Residential Aged Care Home\, 26 McGilton Road\, Berri\, South Australia\, 5343\, Australia
CATEGORIES:Riverland
ORGANIZER;CN="Jacque Zagotsis":MAILTO:jacquezagotsis@gmail.com
END:VEVENT
BEGIN:VEVENT
DTSTART;TZID=Australia/Melbourne:20240724T174500
DTEND;TZID=Australia/Melbourne:20240724T183000
DTSTAMP:20260424T045006
CREATED:20240724T054644Z
LAST-MODIFIED:20240724T054711Z
UID:38380-1721843100-1721845800@www.singaustralia.com.au
SUMMARY:Firstival at Barmera Library
DESCRIPTION:Singing at Barmera Library as part of their “Firstival” event\, whereby community members can come and try something for the first time.\nThere are no perceived hazards or risks\, however rear entry from carpark is on uneven ground
URL:https://www.singaustralia.com.au/gig-calendar/firstival-at-barmera-library/
LOCATION:Barmera Public Library\, Barwell Avenue\, Barmera\, South Australia\, 5345\, Australia
CATEGORIES:Riverland
END:VEVENT
BEGIN:VEVENT
DTSTART;TZID=Australia/Melbourne:20230909T180000
DTEND;TZID=Australia/Melbourne:20230909T200000
DTSTAMP:20260424T045006
CREATED:20230910T064707Z
LAST-MODIFIED:20230910T064717Z
UID:36121-1694282400-1694289600@www.singaustralia.com.au
SUMMARY:Christine's 70th birthday party
DESCRIPTION:Birthday party with Sing Australia Riverland singing ABBA songs and a couple of others .\nNo perceived risks
URL:https://www.singaustralia.com.au/gig-calendar/christines-70th-birthday-party/
LOCATION:Barmera RSL Hall\, Nookamka Terrace\, Barmera\, SA\, 5345\, Australia
CATEGORIES:Riverland
ORGANIZER;CN="Sing Australia Riverland":MAILTO:graemewrule@gmail.com
END:VEVENT
BEGIN:VEVENT
DTSTART;TZID=Australia/Adelaide:20200530T013000
DTEND;TZID=Australia/Adelaide:20200530T160000
DTSTAMP:20260424T045006
CREATED:20200312T013859Z
LAST-MODIFIED:20200312T015012Z
UID:30381-1590802200-1590854400@www.singaustralia.com.au
SUMMARY:Jamestown 10th Birthday
DESCRIPTION:Jamestown’s 10th Birthday Celebration\nTo be held in the church\nthen move into hall for afternoon tea – $10 to cover costs please
URL:https://www.singaustralia.com.au/gig-calendar/jamestown-10th-birthday/
LOCATION:UC Hall 8 Irvine St\, Jamestown\, 8 Irvine St\, Jamestown\, SA\, 5491\, Australia
CATEGORIES:Glenelg,Jamestown,Kadina,Orroroo,Peterborough,Port Pirie,Riverland
ORGANIZER;CN="Chris Thomas":MAILTO:clthomas@internode.on.net
END:VEVENT
BEGIN:VEVENT
DTSTART;TZID=Australia/Adelaide:20200404T110000
DTEND;TZID=Australia/Adelaide:20200404T130000
DTSTAMP:20260424T045006
CREATED:20200312T013821Z
LAST-MODIFIED:20200312T013828Z
UID:30379-1585998000-1586005200@www.singaustralia.com.au
SUMMARY:Laura Fair
DESCRIPTION:(Formally Laura Folk Fair) This annual event has been made into our “Sing Australia Day” event. Singing 2 sets (brackets) of songs including singing the National Anthem at the official opening.\nSinging on the main stage at 11:15 am for 1/2 hour then at 12:30 pm for another 1/2 hour ***please note times change***
URL:https://www.singaustralia.com.au/gig-calendar/laura-fair/
LOCATION:laura main st\, Main street\, Laura\, SA\, 5480\, Australia
CATEGORIES:Burra (SA),Gawler,Glenelg,Hawker,Jamestown,Kadina,Kimba,Magill,Orroroo,Peterborough,Port Pirie,Riverland
ORGANIZER;CN="Chris Thomas":MAILTO:clthomas@internode.on.net
END:VEVENT
BEGIN:VEVENT
DTSTART;TZID=Australia/Melbourne:20191214T094500
DTEND;TZID=Australia/Melbourne:20191214T094500
DTSTAMP:20260424T045006
CREATED:20191210T054821Z
LAST-MODIFIED:20191210T054827Z
UID:29183-1576316700-1576316700@www.singaustralia.com.au
SUMMARY:Renmark Nursing Home Christmas Songs
DESCRIPTION:Singing at Renmark Nursing home\nWear uniform with Christmas bling\nBring both Christmas books
URL:https://www.singaustralia.com.au/gig-calendar/renmark-nursing-home-christmas-songs/
LOCATION:Renmark Nursing Home\, Ral Ral Avenue\, Renmark\, SA\, 5341\, Australia
CATEGORIES:Riverland
ORGANIZER;CN="Sing Australia Riverland":MAILTO:graemewrule@gmail.com
END:VEVENT
BEGIN:VEVENT
DTSTART;TZID=Australia/Adelaide:20191212T141500
DTEND;TZID=Australia/Adelaide:20191212T141500
DTSTAMP:20260424T045006
CREATED:20191210T054722Z
LAST-MODIFIED:20191210T054739Z
UID:29180-1576160100-1576160100@www.singaustralia.com.au
SUMMARY:Bonney Lodge Christmas singing
DESCRIPTION:Christmas songs for the residents of Bonney Lodge Nursing Home\nWear Christmas bling on your uniform and bring both Christmas books
URL:https://www.singaustralia.com.au/gig-calendar/bonney-lodge-christmas-singing/
LOCATION:Bonney Lodge. Barmera\, Hawdon St\, Barmera\, South\, 5345\, Australia
CATEGORIES:Riverland
ORGANIZER;CN="Sing Australia Riverland":MAILTO:graemewrule@gmail.com
END:VEVENT
BEGIN:VEVENT
DTSTART;TZID=Australia/Melbourne:20191212T060000
DTEND;TZID=Australia/Melbourne:20191212T170000
DTSTAMP:20260424T045006
CREATED:20191210T054755Z
LAST-MODIFIED:20191210T054803Z
UID:29181-1576130400-1576170000@www.singaustralia.com.au
SUMMARY:Sing Australia Riverland Christmas Break-up
DESCRIPTION:Christmas event to be held at Garry and Annette Halupka’s home.\nWear everyday clothes or Christmas attire\, not uniform but lots of Christmas bling\nPlease bring salad or sweets as nominated ; Ed will be cooking us dinner\nRemember to also bring your drinks\, cups\, plates\, cutlery and a chair\nAlso bring both your Christmas books!
URL:https://www.singaustralia.com.au/gig-calendar/sing-australia-riverland-christmas-break-up/
LOCATION:Halupka’s Home\, 161 Mortimer Road\, Berri\, South Australia\, 5343\, Australia
CATEGORIES:Riverland
ORGANIZER;CN="Sing Australia Riverland":MAILTO:graemewrule@gmail.com
END:VEVENT
BEGIN:VEVENT
DTSTART;TZID=Australia/Melbourne:20191210T184500
DTEND;TZID=Australia/Melbourne:20191210T203000
DTSTAMP:20260424T045006
CREATED:20191210T054444Z
LAST-MODIFIED:20191210T054656Z
UID:29185-1576003500-1576009800@www.singaustralia.com.au
SUMMARY:Sing Australia Riverland weekly singing
DESCRIPTION:Weekly singing\, every Thursday night in the Monash Hall\nEveryone welcome\, come along and try for three weeks at no cost. \nHope to see you there!
URL:https://www.singaustralia.com.au/gig-calendar/sing-australia-riverland-weekly-singing/
LOCATION:Monash Hall\, Sturt Highway\, Monash\, SA\, 5342\, Australia
CATEGORIES:Riverland
ORGANIZER;CN="Sing Australia Riverland":MAILTO:graemewrule@gmail.com
END:VEVENT
BEGIN:VEVENT
DTSTART;TZID=Australia/Melbourne:20191207T100000
DTEND;TZID=Australia/Melbourne:20191207T110000
DTSTAMP:20260424T045006
CREATED:20191018T061332Z
LAST-MODIFIED:20191018T061736Z
UID:27917-1575712800-1575716400@www.singaustralia.com.au
SUMMARY:Singing at St Catherines
DESCRIPTION:Singing for the residents of St Catherines Home
URL:https://www.singaustralia.com.au/gig-calendar/singing-at-st-catherines/
LOCATION:St Catherine’s Home\, Coneybeer Street\, Berri\, SA\, 5343\, Australia
CATEGORIES:Riverland
ORGANIZER;CN="Sing Australia Riverland":MAILTO:graemewrule@gmail.com
END:VEVENT
BEGIN:VEVENT
DTSTART;TZID=Australia/Melbourne:20191205T190000
DTEND;TZID=Australia/Melbourne:20191205T210000
DTSTAMP:20260424T045006
CREATED:20191018T061242Z
LAST-MODIFIED:20191018T061251Z
UID:27915-1575572400-1575579600@www.singaustralia.com.au
SUMMARY:Riverland Vintage & Classic Car Break-up Party
DESCRIPTION:Singing for the members of the Riverland Vintage and Classic Car club during their end of year Christmas break-up party.\nWe will be also given dinner whilst there.\nTo be held at their club rooms in Cobdogla Hall.\nThis will be on a Thursday night in lieu of our regular singing evening.
URL:https://www.singaustralia.com.au/gig-calendar/riverland-vintage-classic-car-break-up-party/
LOCATION:Cobdogla Hall\, Main Street\, Cobdogla\, South Australia\, 5346\, Australia
CATEGORIES:Riverland
ORGANIZER;CN="Sing Australia Riverland":MAILTO:graemewrule@gmail.com
END:VEVENT
BEGIN:VEVENT
DTSTART;TZID=Australia/Melbourne:20191103T140000
DTEND;TZID=Australia/Melbourne:20191103T160000
DTSTAMP:20260424T045006
CREATED:20191018T060413Z
LAST-MODIFIED:20191018T061305Z
UID:27914-1572789600-1572796800@www.singaustralia.com.au
SUMMARY:Repeat Accolades
DESCRIPTION:Singing at the repeat Anzac Accolades Remembrance Day
URL:https://www.singaustralia.com.au/gig-calendar/repeat-accolades/
LOCATION:Berri Senior Citizens Hall\, Crawford Terrace\, Berri\, SA\, 5343\, Australia
CATEGORIES:Balingup (WA),Riverland
ORGANIZER;CN="Sing Australia Riverland":MAILTO:graemewrule@gmail.com
END:VEVENT
BEGIN:VEVENT
DTSTART;TZID=Australia/Melbourne:20191026T143000
DTEND;TZID=Australia/Melbourne:20191026T153000
DTSTAMP:20260424T045006
CREATED:20191018T060048Z
LAST-MODIFIED:20191018T060106Z
UID:27913-1572100200-1572103800@www.singaustralia.com.au
SUMMARY:Bonney Lodge
DESCRIPTION:Singing for residents in Bonney Lodge nursing home
URL:https://www.singaustralia.com.au/gig-calendar/bonney-lodge-3/
LOCATION:Bonney Lodge. Barmera\, Hawdon St\, Barmera\, South\, 5345\, Australia
CATEGORIES:Riverland
END:VEVENT
BEGIN:VEVENT
DTSTART;VALUE=DATE:20191019
DTEND;VALUE=DATE:20191020
DTSTAMP:20260424T045006
CREATED:20191018T055504Z
LAST-MODIFIED:20191018T060043Z
UID:27911-1571443200-1571529599@www.singaustralia.com.au
SUMMARY:Renmark Rose Festival
DESCRIPTION:Singing at Renmark for Rose Festival\nTime to be advised\, contact 0438839691 for details.
URL:https://www.singaustralia.com.au/gig-calendar/renmark-rose-festival/
LOCATION:Jarret Memorial Gardens Rotunda\, Renmark\, James Avenue\, Renmark\, South Austrlaia\, 5341\, Australia
CATEGORIES:Riverland
ORGANIZER;CN="Sing Australia Riverland":MAILTO:graemewrule@gmail.com
END:VEVENT
BEGIN:VEVENT
DTSTART;TZID=Australia/Melbourne:20190413T130000
DTEND;TZID=Australia/Melbourne:20190413T160000
DTSTAMP:20260424T045006
CREATED:20190411T003951Z
LAST-MODIFIED:20190411T004224Z
UID:23758-1555160400-1555171200@www.singaustralia.com.au
SUMMARY:Sing Australia Day - Riverland
DESCRIPTION:Joining Riverland for sing Australia day
URL:https://www.singaustralia.com.au/gig-calendar/sing-australia-day-23/
LOCATION:meet at Lameroo Hospital to travel to Monash\, Vardon Tce\, Lameroo\, South Australia\, 5302\, Australia
CATEGORIES:Lameroo (SA),Riverland
ORGANIZER;CN="Ann Heaven":MAILTO:apheaven@bigpond.com
END:VEVENT
BEGIN:VEVENT
DTSTART;TZID=Australia/Melbourne:20181220T180000
DTEND;TZID=Australia/Melbourne:20181220T203000
DTSTAMP:20260424T045006
CREATED:20181114T052200Z
LAST-MODIFIED:20181130T041729Z
UID:20777-1545328800-1545337800@www.singaustralia.com.au
SUMMARY:Singing at Renmark Plaza
DESCRIPTION:Christmas carols at Renmark Plaza outside Woolworths in the Mall \nArrive about 6pm to prepare \nBring Christmas books
URL:https://www.singaustralia.com.au/gig-calendar/singing-renmark-plaza/
LOCATION:Renmark Square\, Renmark Plaza\, Renmark Avenue\, Renmark\, South Australia\, 5341\, Australia
CATEGORIES:Riverland
ORGANIZER;CN="Sing Australia Riverland":MAILTO:graemewrule@gmail.com
END:VEVENT
BEGIN:VEVENT
DTSTART;TZID=Australia/Melbourne:20181215T090000
DTEND;TZID=Australia/Melbourne:20181215T100000
DTSTAMP:20260424T045006
CREATED:20180924T204319Z
LAST-MODIFIED:20180924T204325Z
UID:19729-1544864400-1544868000@www.singaustralia.com.au
SUMMARY:Farmera Markets regular singing gig
DESCRIPTION:Join Sing Australia Riverland singing Christmas Carols for market goers at Riverland Farmers Markets  \nPlease arrive by 9am for singing start at 9.15am
URL:https://www.singaustralia.com.au/gig-calendar/farmera-markets-regular-singing-gig/
LOCATION:Berri Senior Citizens Hall\, Crawford Terrace\, Berri\, SA\, 5343\, Australia
CATEGORIES:Riverland
ORGANIZER;CN="Sing Australia Riverland":MAILTO:graemewrule@gmail.com
END:VEVENT
END:VCALENDAR